BEGIN:VCALENDAR
VERSION:2.0
PRODID:-//Animal Rebellion - ECPv6.4.0.1//NONSGML v1.0//EN
CALSCALE:GREGORIAN
METHOD:PUBLISH
X-WR-CALNAME:Animal Rebellion
X-ORIGINAL-URL:https://animalrebellion.org
X-WR-CALDESC:Events for Animal Rebellion
REFRESH-INTERVAL;VALUE=DURATION:PT1H
X-Robots-Tag:noindex
X-PUBLISHED-TTL:PT1H
BEGIN:VTIMEZONE
TZID:Europe/London
BEGIN:DAYLIGHT
TZOFFSETFROM:+0000
TZOFFSETTO:+0100
TZNAME:BST
DTSTART:20200329T010000
END:DAYLIGHT
BEGIN:STANDARD
TZOFFSETFROM:+0100
TZOFFSETTO:+0000
TZNAME:GMT
DTSTART:20201025T010000
END:STANDARD
END:VTIMEZONE
BEGIN:VEVENT
DTSTART;TZID=Europe/London:20200908T093000
DTEND;TZID=Europe/London:20200908T110000
DTSTAMP:20260424T023846
CREATED:20200907T172553Z
LAST-MODIFIED:20200907T172553Z
UID:1588-1599557400-1599562800@animalrebellion.org
SUMMARY:UK Government- Tell The Truth: Animal Ag Causes Pandemics
DESCRIPTION:UK Government – TELL THE TRUTH\nANIMAL AGRICULTURE CAUSES\nPANDEMICS\nANIMAL EXPLOITATION\nCAUSED COVID-19\nWe demand a transition to a plant-\nbased food system to stop future\nzoonotic pandemics.\nWe will be delivering an Open Letter to the UK Government\, signed by scientists\, NGOS\, animal rights organisations and environmentalists\, to demand that the UK Government urgently address the cause of the\nCovid-19 pandemic ~which lies squarely at the feet of animal agriculture and exploitation.\nCovid-19\, is a ‘zoonotic disease’ which jumped the species barrier from animals to humans – likely in a Chinese wet markets where stressed animals kept in cages are slaughtered on site.\nBut the next pandemic could easily originate in an intensive factory unit anywhere in the world\, where disease and dangerous pathogens spread easily amongst stressed\, ill & overcrowded animals – the perfect conditions for disease prorogation.\nThe Government must heed this stark warning ~the next global pandemic is on our doorsteps\, and on people’s plates.\nWe are urging governments around the world to join together to take integrated action to prevent future zoonotic pandemics by ending animal agriculture\, factory farming and moving to a safe and prospering plant-based food system.\nJoin us to deliver this letter to the UK\nGovernment at this pivotal time in global history.\nWe want to make events and actions as accessible as possible. whether it’s your first time attending the rebellion and you need some support or have any questions/requirements in regards to physical or social accessibility please contact us at: inclusion@animalrebellion.org\nJoin the Rebellion Broadcast to get live updates on the Rebellion: https://t.me/AnimalRebellionBroadcast\nPledge here to come to the Rebellion! See you on the streets.\nhttps://actionnetwork.org/forms/pledge-2020\nDo you have the time and passion to help us make this Rebellion happen? Fill out our Rebellion Volunteer Form: https://docs.google.com/forms/d/e/1FAIpQLSdxkJSQfZOwZxwiqWFb8x4ouGR0CvTK8gHHtHnxZaOAZgekOQ/viewform\nOr help by donating here:\nhttps://chuffed.org/project/animalrebellionseptember
URL:https://animalrebellion.org/event/uk-government-tell-the-truth-animal-ag-causes-pandemics/
LOCATION:Downing Street\, Downing Street\, London\, United Kingdom
END:VEVENT
BEGIN:VEVENT
DTSTART;TZID=Europe/London:20200908T100000
DTEND;TZID=Europe/London:20200908T110000
DTSTAMP:20260424T023846
CREATED:20200907T173227Z
LAST-MODIFIED:20200907T173227Z
UID:1595-1599559200-1599562800@animalrebellion.org
SUMMARY:London Litter Pick\, Mile End Park
DESCRIPTION:London Litter Pick\nWHEN? Tuesday 8th 10-11am\nWHERE? Mile End Park\, London\nWHAT? We’re taking some constructive actions as well as disruptive\, one of these is picking litter around the canal\, park and back streets of Mile End! Make sure to bring gloves to pick the litter! Big bags will be provided.\nWHO? Everyone is welcome!\nKeep up to date with the facebook event
URL:https://animalrebellion.org/event/london-litter-pick-mile-end-park/
END:VEVENT
BEGIN:VEVENT
DTSTART;TZID=Europe/London:20200908T173000
DTEND;TZID=Europe/London:20200908T200000
DTSTAMP:20260424T023846
CREATED:20200821T195419Z
LAST-MODIFIED:20200821T195419Z
UID:1573-1599586200-1599595200@animalrebellion.org
SUMMARY:Connecting Communities: How We're All Connected
DESCRIPTION:
URL:https://animalrebellion.org/event/connecting-communities-how-were-all-connected/
CATEGORIES:#AloneTogether
END:VEVENT
END:VCALENDAR