BEGIN:VCALENDAR
VERSION:2.0
PRODID:-//Animal Rebellion - ECPv6.4.0.1//NONSGML v1.0//EN
CALSCALE:GREGORIAN
METHOD:PUBLISH
X-ORIGINAL-URL:https://animalrebellion.org
X-WR-CALDESC:Events for Animal Rebellion
REFRESH-INTERVAL;VALUE=DURATION:PT1H
X-Robots-Tag:noindex
X-PUBLISHED-TTL:PT1H
BEGIN:VTIMEZONE
TZID:Europe/London
BEGIN:DAYLIGHT
TZOFFSETFROM:+0000
TZOFFSETTO:+0100
TZNAME:BST
DTSTART:20200329T010000
END:DAYLIGHT
BEGIN:STANDARD
TZOFFSETFROM:+0100
TZOFFSETTO:+0000
TZNAME:GMT
DTSTART:20201025T010000
END:STANDARD
END:VTIMEZONE
BEGIN:VEVENT
DTSTART;TZID=Europe/London:20201029T180000
DTEND;TZID=Europe/London:20201029T200000
DTSTAMP:20260424T001515
CREATED:20201017T041021Z
LAST-MODIFIED:20201017T041021Z
UID:1661-1603994400-1604001600@animalrebellion.org
SUMMARY:DNA Strategy
DESCRIPTION:This online workshop is all about our core purpose as a movement\, what our goals are and what tools we use to get there. \nLearn about the pillars of support\, why we aim our actions towards the Government\, how we shift hearts and minds of the public and the key principles of Civil Disobedience. There is an opportunity to explore these concepts together and discuss our 2020 strategy. \nRegister here:   https://us02web.zoom.us/meeting/register/tZwod-6pqDouGN16EHYWWt0AFQ1yDEKxNJE2
URL:https://animalrebellion.org/event/dna-strategy/
LOCATION:https://us02web.zoom.us/meeting/register/tZwod-6pqDouGN16EHYWWt0AFQ1yDEKxNJE2
END:VEVENT
END:VCALENDAR