BEGIN:VCALENDAR
VERSION:2.0
PRODID:-//Animal Rebellion - ECPv6.4.0.1//NONSGML v1.0//EN
CALSCALE:GREGORIAN
METHOD:PUBLISH
X-ORIGINAL-URL:https://animalrebellion.org
X-WR-CALDESC:Events for Animal Rebellion
REFRESH-INTERVAL;VALUE=DURATION:PT1H
X-Robots-Tag:noindex
X-PUBLISHED-TTL:PT1H
BEGIN:VTIMEZONE
TZID:Europe/London
BEGIN:DAYLIGHT
TZOFFSETFROM:+0000
TZOFFSETTO:+0100
TZNAME:BST
DTSTART:20200329T010000
END:DAYLIGHT
BEGIN:STANDARD
TZOFFSETFROM:+0100
TZOFFSETTO:+0000
TZNAME:GMT
DTSTART:20201025T010000
END:STANDARD
END:VTIMEZONE
BEGIN:VEVENT
DTSTART;TZID=Europe/London:20201215T140000
DTEND;TZID=Europe/London:20201215T150000
DTSTAMP:20260423T230332
CREATED:20201215T123902Z
LAST-MODIFIED:20201215T123902Z
UID:1986-1608040800-1608044400@animalrebellion.org
SUMMARY:People's Online Assembly-What should Animal Rebellion's Goals for 2021 be?
DESCRIPTION:
URL:https://animalrebellion.org/event/peoples-online-assembly-what-should-animal-rebellions-goals-for-2021-be/
END:VEVENT
END:VCALENDAR