BEGIN:VCALENDAR
VERSION:2.0
PRODID:-//Animal Rebellion - ECPv6.4.0.1//NONSGML v1.0//EN
CALSCALE:GREGORIAN
METHOD:PUBLISH
X-WR-CALNAME:Animal Rebellion
X-ORIGINAL-URL:https://animalrebellion.org
X-WR-CALDESC:Events for Animal Rebellion
REFRESH-INTERVAL;VALUE=DURATION:PT1H
X-Robots-Tag:noindex
X-PUBLISHED-TTL:PT1H
BEGIN:VTIMEZONE
TZID:Europe/London
BEGIN:DAYLIGHT
TZOFFSETFROM:+0000
TZOFFSETTO:+0100
TZNAME:BST
DTSTART:20200329T010000
END:DAYLIGHT
BEGIN:STANDARD
TZOFFSETFROM:+0100
TZOFFSETTO:+0000
TZNAME:GMT
DTSTART:20201025T010000
END:STANDARD
END:VTIMEZONE
BEGIN:VEVENT
DTSTART;TZID=Europe/London:20201218T190000
DTEND;TZID=Europe/London:20201218T200000
DTSTAMP:20260423T230227
CREATED:20201215T000301Z
LAST-MODIFIED:20201215T000301Z
UID:1973-1608318000-1608321600@animalrebellion.org
SUMMARY:Author John King interview and Q&A in our Stream of Solidarity
DESCRIPTION:Author John King joins us for a Stream of Solidarity broadcast.\nJohn will talk about his life and his nine novels.\nIt will be Livestreamed on our Facebook channel and broadcast on Zoom\nRegister in advance for this Zoom meeting here:\nhttps://zoom.us/meeting/register/tJAqdu6spzgoHtMg4vHI0l92bE9GWwDsf0f1\nAfter registering\, you will get an email with info about joining the meeting.\n\nBio\nJohn has been a vegetarian for about 40 years and a vegan for most of that.\nHis latest novel is called Slaughterhouse Prayer and much of the show will explore the animal rights themes of the book.\nAll John’s books are published by London Books and info about them can be found on this webpage:\nhttp://www.london-books.co.uk/authors/johnking.html
URL:https://animalrebellion.org/event/author-john-king-interview-and-qa-in-our-stream-of-solidarity/
LOCATION:Online
END:VEVENT
END:VCALENDAR