BEGIN:VCALENDAR
VERSION:2.0
PRODID:-//Animal Rebellion - ECPv6.4.0.1//NONSGML v1.0//EN
CALSCALE:GREGORIAN
METHOD:PUBLISH
X-WR-CALNAME:Animal Rebellion
X-ORIGINAL-URL:https://animalrebellion.org
X-WR-CALDESC:Events for Animal Rebellion
REFRESH-INTERVAL;VALUE=DURATION:PT1H
X-Robots-Tag:noindex
X-PUBLISHED-TTL:PT1H
BEGIN:VTIMEZONE
TZID:Europe/London
BEGIN:DAYLIGHT
TZOFFSETFROM:+0000
TZOFFSETTO:+0100
TZNAME:BST
DTSTART:20210328T010000
END:DAYLIGHT
BEGIN:STANDARD
TZOFFSETFROM:+0100
TZOFFSETTO:+0000
TZNAME:GMT
DTSTART:20211031T010000
END:STANDARD
END:VTIMEZONE
BEGIN:VEVENT
DTSTART;TZID=Europe/London:20210114T180000
DTEND;TZID=Europe/London:20210114T200000
DTSTAMP:20260423T214204
CREATED:20201216T233124Z
LAST-MODIFIED:20210110T220218Z
UID:2125-1610647200-1610654400@animalrebellion.org
SUMMARY:DNA Strategy
DESCRIPTION:This online workshop is all about our core purpose as a movement\, what our goals are and what tools we use to get there. \nLearn about the pillars of support\, why we aim our actions towards the Government\, how we shift hearts and minds of the public and the key principles of Civil Disobedience. There is an opportunity to explore these concepts together and discuss our 2020 strategy. \n 
URL:https://animalrebellion.org/event/dna-strategy-3/
LOCATION:Online
END:VEVENT
BEGIN:VEVENT
DTSTART;TZID=Europe/London:20210114T183000
DTEND;TZID=Europe/London:20210114T200000
DTSTAMP:20260423T214204
CREATED:20210103T182249Z
LAST-MODIFIED:20210110T220521Z
UID:2550-1610649000-1610654400@animalrebellion.org
SUMMARY:2021 Plant-Based Schools Campaign
DESCRIPTION:New year\, new food system? It’s time to change.\nJoin us in our 2021 campaign: Plant-Based Schools and Councils! \nWe’re kickstarting a nationwide effort to create a fairer and more sustainable food system for the planet\, for animals and for our future. \nAbout This Event\nCome along to find out how to get involved as we demand that local councils stop serving animal products in their schools and council events to combat the climate crisis. \n70% of local councils have declared a climate emergency; none have acted. We demand they prioritise the future of their residents and serve only plant-based food in schools and at council events. \nWith your help\, we can achieve huge goals for animals\, people\, and the planet. We will support you to bring this campaign to your area. Together we will make positive change across the nation! \nSign up for our talk today to find out how you can be part of this incredible journey.
URL:https://animalrebellion.org/event/plant-based-councils-campaign-talk/
LOCATION:Online
END:VEVENT
END:VCALENDAR