BEGIN:VCALENDAR
VERSION:2.0
PRODID:-//Animal Rebellion - ECPv6.4.0.1//NONSGML v1.0//EN
CALSCALE:GREGORIAN
METHOD:PUBLISH
X-ORIGINAL-URL:https://animalrebellion.org
X-WR-CALDESC:Events for Animal Rebellion
REFRESH-INTERVAL;VALUE=DURATION:PT1H
X-Robots-Tag:noindex
X-PUBLISHED-TTL:PT1H
BEGIN:VTIMEZONE
TZID:Europe/London
BEGIN:DAYLIGHT
TZOFFSETFROM:+0000
TZOFFSETTO:+0100
TZNAME:BST
DTSTART:20210328T010000
END:DAYLIGHT
BEGIN:STANDARD
TZOFFSETFROM:+0100
TZOFFSETTO:+0000
TZNAME:GMT
DTSTART:20211031T010000
END:STANDARD
END:VTIMEZONE
BEGIN:VEVENT
DTSTART;TZID=Europe/London:20210119T190000
DTEND;TZID=Europe/London:20210119T203000
DTSTAMP:20260423T214339
CREATED:20210103T183738Z
LAST-MODIFIED:20210110T220729Z
UID:2562-1611082800-1611088200@animalrebellion.org
SUMMARY:People's Assembly
DESCRIPTION:People’s Assemblies are a way for a group of people to discuss issues or make decisions collectively\, where all voices are heard and valued equally and no one person or group are able to dominate the process.\nPeople’s Assemblies play a vital role in our decision making process\, and even more so during the rebellion where we will need to hold impromptu assemblies depending on the situations we encounter.
URL:https://animalrebellion.org/event/peoples-assembly-3/
LOCATION:Online
CATEGORIES:Solidarity Stage,Virtual Village
END:VEVENT
END:VCALENDAR