BEGIN:VCALENDAR
VERSION:2.0
PRODID:-//Animal Rebellion - ECPv6.4.0.1//NONSGML v1.0//EN
CALSCALE:GREGORIAN
METHOD:PUBLISH
X-WR-CALNAME:Animal Rebellion
X-ORIGINAL-URL:https://animalrebellion.org
X-WR-CALDESC:Events for Animal Rebellion
REFRESH-INTERVAL;VALUE=DURATION:PT1H
X-Robots-Tag:noindex
X-PUBLISHED-TTL:PT1H
BEGIN:VTIMEZONE
TZID:Europe/London
BEGIN:DAYLIGHT
TZOFFSETFROM:+0000
TZOFFSETTO:+0100
TZNAME:BST
DTSTART:20210328T010000
END:DAYLIGHT
BEGIN:STANDARD
TZOFFSETFROM:+0100
TZOFFSETTO:+0000
TZNAME:GMT
DTSTART:20211031T010000
END:STANDARD
END:VTIMEZONE
BEGIN:VEVENT
DTSTART;TZID=Europe/London:20210120T180000
DTEND;TZID=Europe/London:20210120T200000
DTSTAMP:20260423T214204
CREATED:20201216T233339Z
LAST-MODIFIED:20210120T141023Z
UID:2127-1611165600-1611172800@animalrebellion.org
SUMMARY:Basic DNA
DESCRIPTION:Essential for all Animal Rebels to deepen their understanding of who Animal Rebellion is. A crash course into how we think social change happens and how we operate. This is only a taste for the individual sections! Be sure to also attend our in depth trainings on our story\, structure\, strategy and culture.
URL:https://animalrebellion.org/event/basic-dna-3/
LOCATION:Online
CATEGORIES:Virtual Village,Welcome Campfire
END:VEVENT
BEGIN:VEVENT
DTSTART;TZID=Europe/London:20210120T190000
DTEND;TZID=Europe/London:20210120T210000
DTSTAMP:20260423T214204
CREATED:20210103T182131Z
LAST-MODIFIED:20210112T142522Z
UID:2548-1611169200-1611176400@animalrebellion.org
SUMMARY:Starting off Strategically for New Groups
DESCRIPTION:Have you formed a new Animal Rebellion group or are interested in developing one? This training will go through the basics of how to plan your groups strategy and make sure its aligning with our goals and direction. We’ll run through understanding Animal Rebellion’s goals and strategy and how your group can find their place within that as well as starting out with setting goals and bringing people on board in roles and teams.
URL:https://animalrebellion.org/event/starting-off-strategically-for-new-groups/
LOCATION:Online
CATEGORIES:Learning Skool,Virtual Village
END:VEVENT
END:VCALENDAR