BEGIN:VCALENDAR
VERSION:2.0
PRODID:-//Animal Rebellion - ECPv6.4.0.1//NONSGML v1.0//EN
CALSCALE:GREGORIAN
METHOD:PUBLISH
X-WR-CALNAME:Animal Rebellion
X-ORIGINAL-URL:https://animalrebellion.org
X-WR-CALDESC:Events for Animal Rebellion
REFRESH-INTERVAL;VALUE=DURATION:PT1H
X-Robots-Tag:noindex
X-PUBLISHED-TTL:PT1H
BEGIN:VTIMEZONE
TZID:Europe/London
BEGIN:DAYLIGHT
TZOFFSETFROM:+0000
TZOFFSETTO:+0100
TZNAME:BST
DTSTART:20210328T010000
END:DAYLIGHT
BEGIN:STANDARD
TZOFFSETFROM:+0100
TZOFFSETTO:+0000
TZNAME:GMT
DTSTART:20211031T010000
END:STANDARD
END:VTIMEZONE
BEGIN:VEVENT
DTSTART;TZID=Europe/London:20210127T180000
DTEND;TZID=Europe/London:20210127T190000
DTSTAMP:20260423T214213
CREATED:20210103T185351Z
LAST-MODIFIED:20210110T221058Z
UID:2576-1611770400-1611774000@animalrebellion.org
SUMMARY:Introduction to Animal Rebellion
DESCRIPTION:Want to know more about Animal Rebellion?⁠ \n⁠We have an introduction session where you can learn more about the movement and how you can get involved. We’ll chat about our principles & values\, our demands\, and a little taster of why we do things the way we do and how you can take part. \n 
URL:https://animalrebellion.org/event/introduction-to-animal-rebellion-10/
LOCATION:Online
CATEGORIES:Virtual Village,Welcome Campfire
END:VEVENT
BEGIN:VEVENT
DTSTART;TZID=Europe/London:20210127T190000
DTEND;TZID=Europe/London:20210127T203000
DTSTAMP:20260423T214213
CREATED:20210109T200157Z
LAST-MODIFIED:20210110T221648Z
UID:2716-1611774000-1611779400@animalrebellion.org
SUMMARY:Animal Rebellion's 2021 Goals - Learnings from the 2020 Strategy Consultation
DESCRIPTION:In December 2020\, after a year rocked by both disaster and triumph\, the Animal Rebellion UK strategy team sat down to take stock of what had happened and what was to come. From those conversations developed the 2020 UK strategy consultation which sought to understand what direction Animal Rebellion was moving in and where what our areas of focus would be for 2021. From conversations with over 20 teams\, we pulled out key themes and areas of concern\, excitement and development which we are now thrilled to be able to present to the whole organisation. In this workshop we will look at the outputs from the consultation\, including some of the key areas of priority and growth that we see as critical for the year to come. Come along to join the conversation\, ask questions and see how you and your team can get involved.\nAll welcome! \n 
URL:https://animalrebellion.org/event/animal-rebellions-2021-goals-learnings-from-the-2020-strategy-consultation/
LOCATION:Online
END:VEVENT
BEGIN:VEVENT
DTSTART;TZID=Europe/London:20210127T190000
DTEND;TZID=Europe/London:20210127T220000
DTSTAMP:20260423T214213
CREATED:20210124T221024Z
LAST-MODIFIED:20210124T221024Z
UID:2853-1611774000-1611784800@animalrebellion.org
SUMMARY:Oppression\, movement building and our relationships as activists (OMBRA)
DESCRIPTION:“Online – a Zoom link will be in your order confirmation email – please check your junk mail folder in case it ends up in there. \nNote: We’ve experienced large numbers of people registering for this workshop and not turning up\, this prevents others from registering and attending because the workshop is sold out. So we ask you to only register if you can attend\, and cancel your ticket if you find you can’t make it. \nPlease arrive from 6.45pm so that we can help you with any issues you might have with Zoom. The workshop will start at 7pm. \nEntry to the workshop will close shortly after 7pm (this is because later parts of the workshop build on earlier parts) \nThis workshop is interactive so it’s useful if each participant can log in on a separate device. Note that logging in using a mobile phone or tablet is possible\, but not so good because you can’t see everyone in the group at the same time. \nPlaces are limited so it would be helpful if you only register if you know you will be able to attend\, and cancel your ticket if you realise that you can’t make it. \nWorkshop details \nOppression\, movement building and our relationships as activists \nWe are members of XR looking at how movements can be divided when oppression goes unaddressed\, offering practical tools to heal these divisions which affect our relationships as activists. \nThis workshop will address the importance of understanding the structural nature of oppressions (such as racism\, sexism\, classism\, ableism\, the oppression of young people\, …)\, as well as doing personal healing work – both of which are necessary if we are to work together effectively in a united movement. \nFacilitators \nKarl & Alima \nPracticalities \nPlease note: \nBecause we will be breaking out into pairs for timed ‘listening exchanges’ it will be very helpful if you can bring a timer to the workshop\, e.g. you can use the timer app on a mobile phone (use a spare mobile if you are using your mobile for the Zoom call). \nWhen you register a Zoom link will be sent in your order confirmation email\, please check your junk mail folder in case the email ends up in there. \nAccessibility \n* This workshop is in English. We are looking to train people who can facilitate in other languages. \n* We sadly do not have sign language interpretation but you’re welcome to bring your own – please can you let us know ahead of time so we can help them prepare before the workshop (ombraworkshop@gmail.com) \n* If you have any accessibility needs please email us at ombraworkshop@gmail.com and we will try to accommodate you.”
URL:https://animalrebellion.org/event/oppression-movement-building-and-our-relationships-as-activists-ombra-2/
LOCATION:Online
CATEGORIES:Solidarity Stage,Virtual Village
END:VEVENT
END:VCALENDAR