BEGIN:VCALENDAR
VERSION:2.0
PRODID:-//Animal Rebellion - ECPv6.4.0.1//NONSGML v1.0//EN
CALSCALE:GREGORIAN
METHOD:PUBLISH
X-ORIGINAL-URL:https://animalrebellion.org
X-WR-CALDESC:Events for Animal Rebellion
REFRESH-INTERVAL;VALUE=DURATION:PT1H
X-Robots-Tag:noindex
X-PUBLISHED-TTL:PT1H
BEGIN:VTIMEZONE
TZID:Europe/London
BEGIN:DAYLIGHT
TZOFFSETFROM:+0000
TZOFFSETTO:+0100
TZNAME:BST
DTSTART:20210328T010000
END:DAYLIGHT
BEGIN:STANDARD
TZOFFSETFROM:+0100
TZOFFSETTO:+0000
TZNAME:GMT
DTSTART:20211031T010000
END:STANDARD
END:VTIMEZONE
BEGIN:VEVENT
DTSTART;TZID=Europe/London:20210131T100000
DTEND;TZID=Europe/London:20210131T170000
DTSTAMP:20260423T214339
CREATED:20210103T185933Z
LAST-MODIFIED:20210127T125957Z
UID:2585-1612087200-1612112400@animalrebellion.org
SUMMARY:Big Arts Mobilization Day
DESCRIPTION:Join us for a day of creating and chatting with the Animal Rebellion arts team.
URL:https://animalrebellion.org/event/arts-space-4/
LOCATION:Online
CATEGORIES:Virtual Village,Wellbeing cafe
END:VEVENT
END:VCALENDAR