BEGIN:VCALENDAR
VERSION:2.0
PRODID:-//Animal Rebellion - ECPv6.4.0.1//NONSGML v1.0//EN
CALSCALE:GREGORIAN
METHOD:PUBLISH
X-ORIGINAL-URL:https://animalrebellion.org
X-WR-CALDESC:Events for Animal Rebellion
REFRESH-INTERVAL;VALUE=DURATION:PT1H
X-Robots-Tag:noindex
X-PUBLISHED-TTL:PT1H
BEGIN:VTIMEZONE
TZID:Europe/London
BEGIN:DAYLIGHT
TZOFFSETFROM:+0000
TZOFFSETTO:+0100
TZNAME:BST
DTSTART:20210328T010000
END:DAYLIGHT
BEGIN:STANDARD
TZOFFSETFROM:+0100
TZOFFSETTO:+0000
TZNAME:GMT
DTSTART:20211031T010000
END:STANDARD
END:VTIMEZONE
BEGIN:VEVENT
DTSTART;TZID=Europe/London:20210207T170000
DTEND;TZID=Europe/London:20210207T190000
DTSTAMP:20260423T202346
CREATED:20210201T184459Z
LAST-MODIFIED:20210202T025847Z
UID:2570-1612717200-1612724400@animalrebellion.org
SUMMARY:Campaign Design Training
DESCRIPTION:In 2021 Animal Rebellion is entering into an exciting new phase with campaigns popping up left\, right and centre. However\, it can sometimes seem a little daunting to start a campaign in your area if its not something you’ve done before. This training will go over the basics of how to plan and implement a successful campaign. It will touch on campaign theory as well as going into examples of effective campaigns and how they won. This training is great for those working on the plant-based councils campaign or for anyone who wants to start to see real change in their area towards a better world.
URL:https://animalrebellion.org/event/campaign-design-workshop/
LOCATION:Online
CATEGORIES:Learning Skool,Virtual Village
END:VEVENT
END:VCALENDAR