BEGIN:VCALENDAR
VERSION:2.0
PRODID:-//Animal Rebellion - ECPv6.4.0.1//NONSGML v1.0//EN
CALSCALE:GREGORIAN
METHOD:PUBLISH
X-WR-CALNAME:Animal Rebellion
X-ORIGINAL-URL:https://animalrebellion.org
X-WR-CALDESC:Events for Animal Rebellion
REFRESH-INTERVAL;VALUE=DURATION:PT1H
X-Robots-Tag:noindex
X-PUBLISHED-TTL:PT1H
BEGIN:VTIMEZONE
TZID:Europe/London
BEGIN:DAYLIGHT
TZOFFSETFROM:+0000
TZOFFSETTO:+0100
TZNAME:BST
DTSTART:20210328T010000
END:DAYLIGHT
BEGIN:STANDARD
TZOFFSETFROM:+0100
TZOFFSETTO:+0000
TZNAME:GMT
DTSTART:20211031T010000
END:STANDARD
END:VTIMEZONE
BEGIN:VEVENT
DTSTART;TZID=Europe/London:20210311T170000
DTEND;TZID=Europe/London:20210311T190000
DTSTAMP:20260423T185149
CREATED:20210306T224842Z
LAST-MODIFIED:20210306T224842Z
UID:3311-1615482000-1615489200@animalrebellion.org
SUMMARY:DNA Structure
DESCRIPTION:“This online workshop is an opportunity to explore Animal Rebellion UK’s structure of coordination and learn about how we make decisions.\nWhat are the key principles\, ways of working and challenges of our Self-Organising-System and how is it expanding as we continually grow? Discuss leadership\, autonomy and the fundamental building blocks of trust and communication.”
URL:https://animalrebellion.org/event/dna-structure-7/
LOCATION:Online
CATEGORIES:Virtual Village,Welcome Campfire
END:VEVENT
BEGIN:VEVENT
DTSTART;TZID=Europe/London:20210311T180000
DTEND;TZID=Europe/London:20210311T200000
DTSTAMP:20260423T185149
CREATED:20210306T224620Z
LAST-MODIFIED:20210306T224620Z
UID:3309-1615485600-1615492800@animalrebellion.org
SUMMARY:Action Design Training
DESCRIPTION:“Non-violent Direct Action is what Animal Rebellion is all about. In this two-hour long\, interactive training you will learn how to design an effective action. We will go through the basic principles of great non-violent direct actions. You will have space to discuss good and bad action design examples and will be designing your own actions during group exercises.\nEvery part of Animal Rebellion needs to become a laboratory for disobedience and action design. If every person in every local group puts their mind to designing actions\, imagine the possibilities!\nWe encourage rebels to attend an NVDA and DNA workshop by Animal Rebellion before joining this training. Please also note that this is an interactive session which will require active participation from those joining.
URL:https://animalrebellion.org/event/action-design-training/
LOCATION:Online
CATEGORIES:Learning Skool,Virtual Village
END:VEVENT
END:VCALENDAR