BEGIN:VCALENDAR
VERSION:2.0
PRODID:-//Animal Rebellion - ECPv6.4.0.1//NONSGML v1.0//EN
CALSCALE:GREGORIAN
METHOD:PUBLISH
X-WR-CALNAME:Animal Rebellion
X-ORIGINAL-URL:https://animalrebellion.org
X-WR-CALDESC:Events for Animal Rebellion
REFRESH-INTERVAL;VALUE=DURATION:PT1H
X-Robots-Tag:noindex
X-PUBLISHED-TTL:PT1H
BEGIN:VTIMEZONE
TZID:Europe/London
BEGIN:DAYLIGHT
TZOFFSETFROM:+0000
TZOFFSETTO:+0100
TZNAME:BST
DTSTART:20210328T010000
END:DAYLIGHT
BEGIN:STANDARD
TZOFFSETFROM:+0100
TZOFFSETTO:+0000
TZNAME:GMT
DTSTART:20211031T010000
END:STANDARD
END:VTIMEZONE
BEGIN:VEVENT
DTSTART;TZID=Europe/London:20210425T180000
DTEND;TZID=Europe/London:20210425T193000
DTSTAMP:20260423T173004
CREATED:20210421T180830Z
LAST-MODIFIED:20210421T181526Z
UID:3571-1619373600-1619379000@animalrebellion.org
SUMMARY:Anti-speciesism and the Fight for Global Climate Justice
DESCRIPTION:Anti-speciesism challenges the prevailing status of non-human animals\, where speciesism is the belief that humans are superior to non-human animals and therefore can be exploited.\nSpeciesism is deeply entrenched in every aspect of our civilization\, from language and the media to the food system that is destroying our planet whilst oppressing human and non-human animals.\nIn this talk\, we’ll learn about the moral status of animals\, the roots of speciesism and begin the unlearning process by discovering that animals much like us are individuals with compassion who resist their captivity and enslavement. \n\n\nhttps://us02web.zoom.us/meeting/register/tZ0qf-uurDsvHNcI8EhWwtspU77A—idCIR
URL:https://animalrebellion.org/event/anti-speciesism-and-the-fight-for-global-climate-justice/
LOCATION:Online
END:VEVENT
END:VCALENDAR