BEGIN:VCALENDAR
VERSION:2.0
PRODID:-//Animal Rebellion - ECPv6.4.0.1//NONSGML v1.0//EN
CALSCALE:GREGORIAN
METHOD:PUBLISH
X-ORIGINAL-URL:https://animalrebellion.org
X-WR-CALDESC:Events for Animal Rebellion
REFRESH-INTERVAL;VALUE=DURATION:PT1H
X-Robots-Tag:noindex
X-PUBLISHED-TTL:PT1H
BEGIN:VTIMEZONE
TZID:Europe/London
BEGIN:DAYLIGHT
TZOFFSETFROM:+0000
TZOFFSETTO:+0100
TZNAME:BST
DTSTART:20210328T010000
END:DAYLIGHT
BEGIN:STANDARD
TZOFFSETFROM:+0100
TZOFFSETTO:+0000
TZNAME:GMT
DTSTART:20211031T010000
END:STANDARD
END:VTIMEZONE
BEGIN:VEVENT
DTSTART;TZID=Europe/London:20210428T183000
DTEND;TZID=Europe/London:20210428T200000
DTSTAMP:20260423T155135
CREATED:20210314T001112Z
LAST-MODIFIED:20210314T001112Z
UID:3440-1619634600-1619640000@animalrebellion.org
SUMMARY:Sound the Alarm - Emergency Messaging and Hope-Based Communication
DESCRIPTION:
URL:https://animalrebellion.org/event/sound-the-alarm-emergency-messaging-and-hope-based-communication-3/
LOCATION:Online
END:VEVENT
END:VCALENDAR