BEGIN:VCALENDAR
VERSION:2.0
PRODID:-//Animal Rebellion - ECPv6.4.0.1//NONSGML v1.0//EN
CALSCALE:GREGORIAN
METHOD:PUBLISH
X-ORIGINAL-URL:https://animalrebellion.org
X-WR-CALDESC:Events for Animal Rebellion
REFRESH-INTERVAL;VALUE=DURATION:PT1H
X-Robots-Tag:noindex
X-PUBLISHED-TTL:PT1H
BEGIN:VTIMEZONE
TZID:Europe/London
BEGIN:DAYLIGHT
TZOFFSETFROM:+0000
TZOFFSETTO:+0100
TZNAME:BST
DTSTART:20210328T010000
END:DAYLIGHT
BEGIN:STANDARD
TZOFFSETFROM:+0100
TZOFFSETTO:+0000
TZNAME:GMT
DTSTART:20211031T010000
END:STANDARD
END:VTIMEZONE
BEGIN:VEVENT
DTSTART;TZID=Europe/London:20210503T190000
DTEND;TZID=Europe/London:20210503T210000
DTSTAMP:20260423T155255
CREATED:20210423T205526Z
LAST-MODIFIED:20210423T211122Z
UID:3583-1620068400-1620075600@animalrebellion.org
SUMMARY:Race/Class & Our Food Systems
DESCRIPTION:We will be exploring how issues of race and class interact and influence our food systems.\n\n\n\n\n\nAbout this Event\n\n\nThe first in the series\, we will be examining the link between the Indian Farmers Strike and how global south resistance is connected to animal agriculture. \nThere is a clear linkage between race\, class\, and animal oppression. One of Animal Rebellion’s demands is to achieve a “just and sustainable plant-based food system” – and the many layers of oppression unfold themselves within the intersectionalities. Equally\, land and food justice are vital to be understood as they connect to our indigenous heritage and spiritual cultures. Ultimately\, animal agriculture is currently produced in an exploitative system that is also perpetuating racism\, classism\, and other forms of oppression. \n\n\n\n\nhttps://www.eventbrite.co.uk/e/raceclass-our-food-systems-tickets-151469614695
URL:https://animalrebellion.org/event/race-class-our-food-systems/
CATEGORIES:Solidarity Stage
END:VEVENT
END:VCALENDAR