BEGIN:VCALENDAR
VERSION:2.0
PRODID:-//Animal Rebellion - ECPv6.4.0.1//NONSGML v1.0//EN
CALSCALE:GREGORIAN
METHOD:PUBLISH
X-WR-CALNAME:Animal Rebellion
X-ORIGINAL-URL:https://animalrebellion.org
X-WR-CALDESC:Events for Animal Rebellion
REFRESH-INTERVAL;VALUE=DURATION:PT1H
X-Robots-Tag:noindex
X-PUBLISHED-TTL:PT1H
BEGIN:VTIMEZONE
TZID:Europe/London
BEGIN:DAYLIGHT
TZOFFSETFROM:+0000
TZOFFSETTO:+0100
TZNAME:BST
DTSTART:20210328T010000
END:DAYLIGHT
BEGIN:STANDARD
TZOFFSETFROM:+0100
TZOFFSETTO:+0000
TZNAME:GMT
DTSTART:20211031T010000
END:STANDARD
END:VTIMEZONE
BEGIN:VEVENT
DTSTART;TZID=Europe/London:20210510T190000
DTEND;TZID=Europe/London:20210510T201500
DTSTAMP:20260423T161319
CREATED:20210508T162429Z
LAST-MODIFIED:20210510T093147Z
UID:3613-1620673200-1620677700@animalrebellion.org
SUMMARY:Plant-Based Future Now - Talk
DESCRIPTION:It’s official\, the climate is changing rapidly and we’re all feeling the heat.\n\nBut what’s actually happening and what can we do about it?\n\nIn this talk\, Animal Rebellion summarises what has caused the climate emergency\, what we can do about it and how to get involved.\n\nJoin us for this online talk and learn more about the climate breakdown\, meet new people and ask any questions you have in the 20 minutes Q&A following the talk.\n\nWe may be facing dark times ahead but there’s always an opportunity for positive change. We come in peace\, love and solidarity and invite you to join us in this rebellion!\n\nRegister here:\nhttps://zoom.us/meeting/register/tJcpdOyprTojEt2qjPJ-FK76mXkdOfdG5_m1\n\nAfter registering\, you will receive a confirmation email containing information about joining the meeting. \nSee less
URL:https://animalrebellion.org/event/plant-based-future-now-talk/
LOCATION:Online
END:VEVENT
END:VCALENDAR