BEGIN:VCALENDAR
VERSION:2.0
PRODID:-//Animal Rebellion - ECPv6.4.0.1//NONSGML v1.0//EN
CALSCALE:GREGORIAN
METHOD:PUBLISH
X-WR-CALNAME:Animal Rebellion
X-ORIGINAL-URL:https://animalrebellion.org
X-WR-CALDESC:Events for Animal Rebellion
REFRESH-INTERVAL;VALUE=DURATION:PT1H
X-Robots-Tag:noindex
X-PUBLISHED-TTL:PT1H
BEGIN:VTIMEZONE
TZID:Europe/London
BEGIN:DAYLIGHT
TZOFFSETFROM:+0000
TZOFFSETTO:+0100
TZNAME:BST
DTSTART:20210328T010000
END:DAYLIGHT
BEGIN:STANDARD
TZOFFSETFROM:+0100
TZOFFSETTO:+0000
TZNAME:GMT
DTSTART:20211031T010000
END:STANDARD
END:VTIMEZONE
BEGIN:VEVENT
DTSTART;TZID=Europe/London:20210521T190000
DTEND;TZID=Europe/London:20210521T200000
DTSTAMP:20260423T155011
CREATED:20210509T135938Z
LAST-MODIFIED:20210509T135938Z
UID:3635-1621623600-1621627200@animalrebellion.org
SUMMARY:"What Else Do Rebels Do?"
DESCRIPTION:Come along and hear what a couple of rebels have been up to during lockdown… \nJane will be presenting a talk about the Humane Being campaign to Scrap Factory Farming by taking the UK government to court. With the help of Michael Mansfield QC they have just issued a ‘last chance’ warning prior to launching a case that will hold the UK Government to account for the threat posed\, and destruction to the planet caused\, by factory farming.\nMark will talk about his non-profit organisation Grainwaves. Two years in the planning and with a couple of test/trial runs\, this organisation will help any business in transitioning to a plant-based and/or vegan business.\nThere will be time for a Q & A and information about how you can help these succeed will be available.\nThe event will be hosted by Billie Savage of Animal Rebellion Netherlands\n\nYou are invited to a Zoom meeting.\nWhen: May 21\, 2021 07:00 PM London\nRegister in advance for this meeting:\nhttps://zoom.us/…/tJcscOmqqD0vH9ZuZ8VrvISoAA0fzrAwpUW2\nAfter registering\, you will receive a confirmation email containing information about joining the meeting.
URL:https://animalrebellion.org/event/what-else-do-rebels-do/
LOCATION:Online
CATEGORIES:Solidarity Stage
END:VEVENT
END:VCALENDAR