BEGIN:VCALENDAR
VERSION:2.0
PRODID:-//Animal Rebellion - ECPv6.4.0.1//NONSGML v1.0//EN
CALSCALE:GREGORIAN
METHOD:PUBLISH
X-ORIGINAL-URL:https://animalrebellion.org
X-WR-CALDESC:Events for Animal Rebellion
REFRESH-INTERVAL;VALUE=DURATION:PT1H
X-Robots-Tag:noindex
X-PUBLISHED-TTL:PT1H
BEGIN:VTIMEZONE
TZID:Europe/London
BEGIN:DAYLIGHT
TZOFFSETFROM:+0000
TZOFFSETTO:+0100
TZNAME:BST
DTSTART:20210328T010000
END:DAYLIGHT
BEGIN:STANDARD
TZOFFSETFROM:+0100
TZOFFSETTO:+0000
TZNAME:GMT
DTSTART:20211031T010000
END:STANDARD
END:VTIMEZONE
BEGIN:VEVENT
DTSTART;TZID=Europe/London:20210601T190000
DTEND;TZID=Europe/London:20210601T210000
DTSTAMP:20260423T155132
CREATED:20210530T105422Z
LAST-MODIFIED:20210530T105720Z
UID:3884-1622574000-1622581200@animalrebellion.org
SUMMARY:DNA workshop
DESCRIPTION:Who is Animal Rebellion? \nHow can I take action? \nThis core training will cover everything you need to know about Animal Rebellion and our theory of change! \nIt covers our STORY\, our STRUCTURE\, our STRATEGY and our CULTURE. \nFacebook Events: https://www.facebook.com/events/522492075423360 \nSign up via this Zoom link (you will receive confirmation via email)\nhttps://zoom.us/meeting/register/tJIudOigqj4qGNPW_PbrsagMbkuFm0en_EDG \n 
URL:https://animalrebellion.org/event/dna-workshop/
END:VEVENT
END:VCALENDAR