BEGIN:VCALENDAR
VERSION:2.0
PRODID:-//Animal Rebellion - ECPv6.4.0.1//NONSGML v1.0//EN
CALSCALE:GREGORIAN
METHOD:PUBLISH
X-WR-CALNAME:Animal Rebellion
X-ORIGINAL-URL:https://animalrebellion.org
X-WR-CALDESC:Events for Animal Rebellion
REFRESH-INTERVAL;VALUE=DURATION:PT1H
X-Robots-Tag:noindex
X-PUBLISHED-TTL:PT1H
BEGIN:VTIMEZONE
TZID:Europe/London
BEGIN:DAYLIGHT
TZOFFSETFROM:+0000
TZOFFSETTO:+0100
TZNAME:BST
DTSTART:20210328T010000
END:DAYLIGHT
BEGIN:STANDARD
TZOFFSETFROM:+0100
TZOFFSETTO:+0000
TZNAME:GMT
DTSTART:20211031T010000
END:STANDARD
END:VTIMEZONE
BEGIN:VEVENT
DTSTART;TZID=Europe/London:20210803T190000
DTEND;TZID=Europe/London:20210803T200000
DTSTAMP:20260423T112823
CREATED:20210802T172453Z
LAST-MODIFIED:20210802T172453Z
UID:4353-1628017200-1628020800@animalrebellion.org
SUMMARY:Action Support Roles Briefing
DESCRIPTION:Would you like to find out how to get more involved and how to support at actions during the upcoming rebellion? This informal talk outlines the different support roles needed for a successful action and will help you discover which role(s) would be most suitable for you. Roles include wellbeing\, outreach\, de-escalation\, police liaison and stewarding. Information on further trainings for most of these roles will be given and the session will end with a Q&A.\nSign up to the Event Here:\nhttps://actionnetwork.org/…/intro-to-action-support-roles/
URL:https://animalrebellion.org/event/action-support-roles-briefing/
LOCATION:Online
ATTACH;FMTTYPE=image/jpeg:https://animalrebellion.org/wp-content/uploads/2021/08/6CF7544A-D50E-410D-9610-8DCF9F9E1DD8.jpeg
END:VEVENT
END:VCALENDAR