BEGIN:VCALENDAR
VERSION:2.0
PRODID:-//Animal Rebellion - ECPv6.4.0.1//NONSGML v1.0//EN
CALSCALE:GREGORIAN
METHOD:PUBLISH
X-WR-CALNAME:Animal Rebellion
X-ORIGINAL-URL:https://animalrebellion.org
X-WR-CALDESC:Events for Animal Rebellion
REFRESH-INTERVAL;VALUE=DURATION:PT1H
X-Robots-Tag:noindex
X-PUBLISHED-TTL:PT1H
BEGIN:VTIMEZONE
TZID:Europe/London
BEGIN:DAYLIGHT
TZOFFSETFROM:+0000
TZOFFSETTO:+0100
TZNAME:BST
DTSTART:20210328T010000
END:DAYLIGHT
BEGIN:STANDARD
TZOFFSETFROM:+0100
TZOFFSETTO:+0000
TZNAME:GMT
DTSTART:20211031T010000
END:STANDARD
END:VTIMEZONE
BEGIN:VEVENT
DTSTART;TZID=Europe/London:20210807T130000
DTEND;TZID=Europe/London:20210807T143000
DTSTAMP:20260423T103928
CREATED:20210802T044914Z
LAST-MODIFIED:20210802T045125Z
UID:4342-1628341200-1628346600@animalrebellion.org
SUMMARY:Live Q&A with Kristy Alger
DESCRIPTION:As described on her Medium profile Kristy Alger is a collective liberationist\, anti-speciesist theorist\, and author living on mumirimina country\, in lutruwita (“tasmania”) \nIn her book “Five Essays For Freedom: a political primer for animal advocates” Kristy introduces us to a complex web designed to uphold oppressive systems through a strong government-industry relationship and provides us with strategies and tactics that would help us fight against the pillars that uphold speciesism. \nInvite your friends\, prepare your questions and join the Animal Rebellion Book Club for a conversation with Kristy Alger. \nYou can join via zoom by registering here: https://us06web.zoom.us/meeting/register/tZ0kc-GuqTMqHdAfAEATAyuMs8nQrL6cWP6z \nYou can also join us via Facebook Live.
URL:https://animalrebellion.org/event/live-qa-with-kristy-alger/
LOCATION:Zoom & Facebook Live\, United Kingdom
ATTACH;FMTTYPE=image/jpeg:https://animalrebellion.org/wp-content/uploads/2021/08/010FA428-966F-4B17-9AD8-47E4FF15C36F.jpeg
END:VEVENT
END:VCALENDAR