BEGIN:VCALENDAR
VERSION:2.0
PRODID:-//Animal Rebellion - ECPv6.4.0.1//NONSGML v1.0//EN
CALSCALE:GREGORIAN
METHOD:PUBLISH
X-WR-CALNAME:Animal Rebellion
X-ORIGINAL-URL:https://animalrebellion.org
X-WR-CALDESC:Events for Animal Rebellion
REFRESH-INTERVAL;VALUE=DURATION:PT1H
X-Robots-Tag:noindex
X-PUBLISHED-TTL:PT1H
BEGIN:VTIMEZONE
TZID:Europe/London
BEGIN:DAYLIGHT
TZOFFSETFROM:+0000
TZOFFSETTO:+0100
TZNAME:BST
DTSTART:20210328T010000
END:DAYLIGHT
BEGIN:STANDARD
TZOFFSETFROM:+0100
TZOFFSETTO:+0000
TZNAME:GMT
DTSTART:20211031T010000
END:STANDARD
END:VTIMEZONE
BEGIN:VEVENT
DTSTART;TZID=Europe/London:20210910T190000
DTEND;TZID=Europe/London:20210910T203000
DTSTAMP:20260423T100716
CREATED:20210909T180914Z
LAST-MODIFIED:20210909T181802Z
UID:4608-1631300400-1631305800@animalrebellion.org
SUMMARY:How to Get Involved - Talk
DESCRIPTION:Animal Rebellion is only as strong as its volunteers\, be it remote support or on the ground\, dedicating 1 hour a week or 10- any volunteering support helps keep this movement alive and strong.\nThere is a team and role for everyone\, based on their own availability and skill set. If you would like to find your PERFECT role within Animal Rebellion join us:\nFOR A HOW TO GET INVOLVED TALK- ONLINE TOMORROW 7PM VIA ZOOM\nMake sure to join us using the link below:\nhttps://us02web.zoom.us/j/86055536456…\nWe can only keep fighting with your help.\nVolunteer with us now!
URL:https://animalrebellion.org/event/how-to-get-involved-talk/
LOCATION:zoom
ATTACH;FMTTYPE=image/jpeg:https://animalrebellion.org/wp-content/uploads/2021/09/7F951544-3152-417D-9FF3-D29868B417EA.jpeg
END:VEVENT
BEGIN:VEVENT
DTSTART;TZID=Europe/London:20210910T190000
DTEND;TZID=Europe/London:20210910T220000
DTSTAMP:20260423T100716
CREATED:20210909T180330Z
LAST-MODIFIED:20210909T180620Z
UID:4603-1631300400-1631311200@animalrebellion.org
SUMMARY:Oppression\, movement building and our relationships as activists
DESCRIPTION:Oppression\, movement building and our relationships as activists.\nNote: We’ve experienced large numbers of people registering for this workshop and not turning up.\nThis prevents others from registering and attending because the workshop is sold out.\nSo we ask you to only book if you can attend and cancel your ticket in good time if you find you can’t make it.\n—–\nWe are members of XR looking at how movements can be divided when oppression goes unaddressed\, offering practical tools to heal these divisions which affect our relationships as activists.\nThis workshop will address the importance of understanding the structural nature of oppressions (such as racism\, sexism\, classism\, ableism\, the oppression of young people\, …)\, as well as doing personal healing work – both of which are necessary if we are to work together effectively in a united movement.\nPlease arrive from 15 minutes before the start time for a prompt start.\nWhen you register a Zoom link will be sent in your order confirmation email. Please check your junk mail folder in case your email ends up in there.\nPracticalities\nThis workshop is interactive so it’s useful if each participant can join the call on a separate device.\nBecause we will be breaking out into smaller groups for timed ‘listening exchanges’ it will be very helpful if you can bring a timer to the workshop\, e.g. you can use the timer app on a mobile phone (use a spare mobile if you are using your mobile for the Zoom call).\nWhen you’re in the Zoom meeting it is useful to choose “Gallery View” so that you can see everyone’s lovely faces (this doesn’t work on mobile phones).\nAccessibility\n* This workshop is in English. We are looking to train people who can facilitate in other languages.\n* We do not have sign language interpretation but you’re welcome to bring your own – please can you let us know by email ahead of time so we can help them prepare before the workshop (ombraworkshop@gmail.com).\n* If you have any accessibility needs please contact us on ombraworkshop@gmail.com to tell us about them and we will try to accommodate you
URL:https://animalrebellion.org/event/oppression-movement-building-and-our-relationships-as-activists-3/
LOCATION:zoom
ATTACH;FMTTYPE=image/jpeg:https://animalrebellion.org/wp-content/uploads/2021/09/0E9817B4-8681-40DB-B089-1ACE01739010.jpeg
END:VEVENT
END:VCALENDAR