BEGIN:VCALENDAR
VERSION:2.0
PRODID:-//Animal Rebellion - ECPv6.4.0.1//NONSGML v1.0//EN
CALSCALE:GREGORIAN
METHOD:PUBLISH
X-WR-CALNAME:Animal Rebellion
X-ORIGINAL-URL:https://animalrebellion.org
X-WR-CALDESC:Events for Animal Rebellion
REFRESH-INTERVAL;VALUE=DURATION:PT1H
X-Robots-Tag:noindex
X-PUBLISHED-TTL:PT1H
BEGIN:VTIMEZONE
TZID:Europe/London
BEGIN:DAYLIGHT
TZOFFSETFROM:+0000
TZOFFSETTO:+0100
TZNAME:BST
DTSTART:20210328T010000
END:DAYLIGHT
BEGIN:STANDARD
TZOFFSETFROM:+0100
TZOFFSETTO:+0000
TZNAME:GMT
DTSTART:20211031T010000
END:STANDARD
END:VTIMEZONE
BEGIN:VEVENT
DTSTART;TZID=Europe/London:20210914T190000
DTEND;TZID=Europe/London:20210914T190000
DTSTAMP:20260423T100716
CREATED:20210909T182613Z
LAST-MODIFIED:20210909T182613Z
UID:4616-1631646000-1631646000@animalrebellion.org
SUMMARY:Roger Hallam - Insulate Britain strategy and recruitment
DESCRIPTION:Due to high interest\, this is a second Insulate Britain session for Animal Rebels.\nSep 14\, 2021 07:00 PM London\nRegister in advance for this meeting:\nhttps://us06web.zoom.us/…/tZMpc…\nAfter registering\, you will receive a confirmation email containing information about joining the meeting.\nRoger Hallam is a Welsh organic vegetable farmer\, vegan of 30+ years\, a co-founder of Extinction Rebellion\, cooperative federation organisation Radical Routes and the political party Burning Pink.\nHe also played an important role in 2019 formation of Animal Rebellion in 2019.\nOn the 20th June 4PM he is coming to Animal Rebellion (online) to mobilise for a strategic action in September 2021.\nAbout the event:\n“Smart strategy involves looking at the whole system and picking on the opponent’s weakness point – not continuing to go through the motions. Insulating the housing in the UK is the most non brainer move to reduce carbon emissions per unit of investment. It also creates thousands of jobs and significantly prevents needless deaths from fuel poverty. It’s therefore the bread and butter issue which gets the attention of ordinary working people – the people Johnson is so keen to keep on his side. It puts us in the ball park of creating a win on forcing concrete legislation to actually reduce emissions now. It has the potential then to regalvanise the global movement to engage in nonviolent material resistance – and that’s the most effective way to stop the holocaust of animal life on the planet in the short time we have left.”\n(Roger Hallam)\nAbout insulate Britain:\nInsulate Britain is a campaign supported by people in numerous networks which will shortly be making concrete demands of the UK government to insulate the housing stock of the country\, as an essential immediate step in dealing with the climate and ecological emergency. If the government does not act upon its responsibility to act then the campaign will organise acts of high level civil disobedience.\nThe campaign is organising fortnightly open cultural and political events to encourage a deeper understanding of the long tradition of civil resistance so we can be inspired by the great movements of the past. Chris Hedges (bio here) will speak about this prophetic tradition drawing upon his first hand experience as a journalist of uprisings and revolutions during the latter part of the last century. He will then take questions and people will hear about the upcoming campaign and have time to discuss getting involved in break out groups.
URL:https://animalrebellion.org/event/roger-hallam-insulate-britain-strategy-and-recruitment/
ATTACH;FMTTYPE=image/jpeg:https://animalrebellion.org/wp-content/uploads/2021/09/0A735BEE-B35D-46C1-B367-DBB85C7739EA.jpeg
END:VEVENT
END:VCALENDAR