BEGIN:VCALENDAR
VERSION:2.0
PRODID:-//Animal Rebellion - ECPv6.4.0.1//NONSGML v1.0//EN
CALSCALE:GREGORIAN
METHOD:PUBLISH
X-ORIGINAL-URL:https://animalrebellion.org
X-WR-CALDESC:Events for Animal Rebellion
REFRESH-INTERVAL;VALUE=DURATION:PT1H
X-Robots-Tag:noindex
X-PUBLISHED-TTL:PT1H
BEGIN:VTIMEZONE
TZID:Europe/London
BEGIN:DAYLIGHT
TZOFFSETFROM:+0000
TZOFFSETTO:+0100
TZNAME:BST
DTSTART:20210328T010000
END:DAYLIGHT
BEGIN:STANDARD
TZOFFSETFROM:+0100
TZOFFSETTO:+0000
TZNAME:GMT
DTSTART:20211031T010000
END:STANDARD
END:VTIMEZONE
BEGIN:VEVENT
DTSTART;TZID=Europe/London:20210925T110000
DTEND;TZID=Europe/London:20210925T190000
DTSTAMP:20260423T083438
CREATED:20210909T182907Z
LAST-MODIFIED:20210920T181709Z
UID:4620-1632567600-1632596400@animalrebellion.org
SUMMARY:DNA Training
DESCRIPTION:Who is Animal Rebellion? How can I take action? This core training will cover everything you need to know about Animal Rebellion and our theory of change! \n  \nRegister here: https://forms.gle/hSg1ZB65aXTcxkd5A
URL:https://animalrebellion.org/event/dna-training/
ATTACH;FMTTYPE=image/jpeg:https://animalrebellion.org/wp-content/uploads/2021/09/207E53D2-6FC9-435D-80A9-538FDBFD29FD.jpeg
END:VEVENT
END:VCALENDAR