BEGIN:VCALENDAR
VERSION:2.0
PRODID:-//Animal Rebellion - ECPv6.4.0.1//NONSGML v1.0//EN
CALSCALE:GREGORIAN
METHOD:PUBLISH
X-WR-CALNAME:Animal Rebellion
X-ORIGINAL-URL:https://animalrebellion.org
X-WR-CALDESC:Events for Animal Rebellion
REFRESH-INTERVAL;VALUE=DURATION:PT1H
X-Robots-Tag:noindex
X-PUBLISHED-TTL:PT1H
BEGIN:VTIMEZONE
TZID:Europe/London
BEGIN:DAYLIGHT
TZOFFSETFROM:+0000
TZOFFSETTO:+0100
TZNAME:BST
DTSTART:20210328T010000
END:DAYLIGHT
BEGIN:STANDARD
TZOFFSETFROM:+0100
TZOFFSETTO:+0000
TZNAME:GMT
DTSTART:20211031T010000
END:STANDARD
END:VTIMEZONE
BEGIN:VEVENT
DTSTART;TZID=Europe/London:20210926T180000
DTEND;TZID=Europe/London:20210926T200000
DTSTAMP:20260423T100713
CREATED:20210909T183050Z
LAST-MODIFIED:20210909T183050Z
UID:4624-1632679200-1632686400@animalrebellion.org
SUMMARY:Basic DNA Training
DESCRIPTION:Essential for all Animal Rebels to deepen their understanding of who Animal Rebellion is. A crash course into how we think social change happens and how we operate. This is a 2 hour long taste session to understand the basics of our story\, culture\, strategy and structure!\nZoom Registration:\nhttps://us06web.zoom.us/…/tZIkdu…
URL:https://animalrebellion.org/event/basic-dna-training/
ATTACH;FMTTYPE=image/jpeg:https://animalrebellion.org/wp-content/uploads/2021/09/072ED863-1209-45F4-8B18-4928C12F90A1.jpeg
END:VEVENT
END:VCALENDAR