BEGIN:VCALENDAR
VERSION:2.0
PRODID:-//Animal Rebellion - ECPv6.4.0.1//NONSGML v1.0//EN
CALSCALE:GREGORIAN
METHOD:PUBLISH
X-WR-CALNAME:Animal Rebellion
X-ORIGINAL-URL:https://animalrebellion.org
X-WR-CALDESC:Events for Animal Rebellion
REFRESH-INTERVAL;VALUE=DURATION:PT1H
X-Robots-Tag:noindex
X-PUBLISHED-TTL:PT1H
BEGIN:VTIMEZONE
TZID:UTC
BEGIN:STANDARD
TZOFFSETFROM:+0000
TZOFFSETTO:+0000
TZNAME:UTC
DTSTART:20210101T000000
END:STANDARD
END:VTIMEZONE
BEGIN:VEVENT
DTSTART;TZID=UTC:20211012T183000
DTEND;TZID=UTC:20211012T203000
DTSTAMP:20260423T071925
CREATED:20211005T092229Z
LAST-MODIFIED:20211005T163300Z
UID:4740-1634063400-1634070600@animalrebellion.org
SUMMARY:Non-Violent Direct Action
DESCRIPTION:NVDA is a fundamental component of our theory of change. But why non-violence and what are some of the tactics we can use? We’ll explore these concepts and more in this core training\, which is a must for all Animal Rebels to attend! \nRegistration Link \nhttps://us06web.zoom.us/meeting/register/tZcpfuisqj8tE9DE6HqeAGhkGgF0rao8qypp
URL:https://animalrebellion.org/event/non-violent-direct-action-copy/
LOCATION:Online
CATEGORIES:Talks & Trainings
ATTACH;FMTTYPE=image/jpeg:https://animalrebellion.org/wp-content/uploads/2021/05/182980200_936456877106549_8573060960307469732_n.jpg
END:VEVENT
END:VCALENDAR