BEGIN:VCALENDAR
VERSION:2.0
PRODID:-//Animal Rebellion - ECPv6.4.0.1//NONSGML v1.0//EN
CALSCALE:GREGORIAN
METHOD:PUBLISH
X-WR-CALNAME:Animal Rebellion
X-ORIGINAL-URL:https://animalrebellion.org
X-WR-CALDESC:Events for Animal Rebellion
REFRESH-INTERVAL;VALUE=DURATION:PT1H
X-Robots-Tag:noindex
X-PUBLISHED-TTL:PT1H
BEGIN:VTIMEZONE
TZID:UTC
BEGIN:STANDARD
TZOFFSETFROM:+0000
TZOFFSETTO:+0000
TZNAME:UTC
DTSTART:20210101T000000
END:STANDARD
END:VTIMEZONE
BEGIN:VEVENT
DTSTART;TZID=UTC:20211106T170000
DTEND;TZID=UTC:20211106T183000
DTSTAMP:20260423T054442
CREATED:20211025T165847Z
LAST-MODIFIED:20211025T235322Z
UID:4810-1636218000-1636223400@animalrebellion.org
SUMMARY:Book Club: Hegemony How-To - Session 2
DESCRIPTION:Register in advance for this meeting: \nanimalrebellion.org/bookclub \nAfter registering\, you will receive a confirmation email containing information about joining the meeting. \nYou are encouraged to read the materials prior to the session but this is not a requisite to join. The more important thing is turning up and join the conversation. Prior to each session you will receive an email with a short list of key points from the reading to allow everyone to engage with discussions. \nIn this session we will discuss following chapters:  \n-THE PREFIGURATIVE AND THE POLITICAL \n-ASPIRING HEGEMONIC \n-BEYOND THE LOW PLATEAU \nIf cost of the book is a barrier for you\, please get in touch with us at bookclub@animalrebellion.org \nAbout the book: \nHegemony How-To is a practical guide to political struggle for a generation that is deeply ambivalent about questions of power\, leadership\, and strategy. Hopeful about the potential of today’s burgeoning movements\, long-time grassroots organizer Jonathan Smucker nonetheless pulls no punches when confronting their internal dysfunction. Drawing from personal experience\, he provides deep theoretical insight into the all-too-familiar radical tendency toward self-defeating insularity and paralyzing purism. At the same time\, he offers tools to bridge the divide between anti-authoritarian values and hegemonic strategies\, tools that might just help today’s movements to navigate their obstacles—and change the world.
URL:https://animalrebellion.org/event/book-club-hegemony-how-to-session-2/
LOCATION:zoom
ATTACH;FMTTYPE=image/png:https://animalrebellion.org/wp-content/uploads/2021/10/book-club-how-to-hegemony-event-2.png
END:VEVENT
END:VCALENDAR