BEGIN:VCALENDAR
VERSION:2.0
PRODID:-//Animal Rebellion - ECPv6.4.0.1//NONSGML v1.0//EN
CALSCALE:GREGORIAN
METHOD:PUBLISH
X-ORIGINAL-URL:https://animalrebellion.org
X-WR-CALDESC:Events for Animal Rebellion
REFRESH-INTERVAL;VALUE=DURATION:PT1H
X-Robots-Tag:noindex
X-PUBLISHED-TTL:PT1H
BEGIN:VTIMEZONE
TZID:UTC
BEGIN:STANDARD
TZOFFSETFROM:+0000
TZOFFSETTO:+0000
TZNAME:UTC
DTSTART:20220101T000000
END:STANDARD
END:VTIMEZONE
BEGIN:VEVENT
DTSTART;TZID=UTC:20220110T063000
DTEND;TZID=UTC:20220110T203000
DTSTAMP:20260423T024152
CREATED:20211215T195840Z
LAST-MODIFIED:20211215T195840Z
UID:5030-1641796200-1641846600@animalrebellion.org
SUMMARY:Online DNA Story Workshop
DESCRIPTION:This online workshop is an opportunity to explore our personal and shared stories in Animal Rebellion. How do we frame our story as a movement? Why do we use certain words and concepts\, yet avoid others? How does it reach out to people? What do we mean by our ‘shared vision of change’? \nThe workshop will be held via Zoom. Register for the workshop here:\nhttps://us02web.zoom.us/meeting/register/tZwtfuqpqj0pHd2DnZJa-grov2eprkjcVzFC
URL:https://animalrebellion.org/event/online-dna-story-workshop/
CATEGORIES:DNA
ATTACH;FMTTYPE=image/jpeg:https://animalrebellion.org/wp-content/uploads/2021/12/story-dna.jpg
END:VEVENT
END:VCALENDAR