BEGIN:VCALENDAR
VERSION:2.0
PRODID:-//Animal Rebellion - ECPv6.4.0.1//NONSGML v1.0//EN
CALSCALE:GREGORIAN
METHOD:PUBLISH
X-ORIGINAL-URL:https://animalrebellion.org
X-WR-CALDESC:Events for Animal Rebellion
REFRESH-INTERVAL;VALUE=DURATION:PT1H
X-Robots-Tag:noindex
X-PUBLISHED-TTL:PT1H
BEGIN:VTIMEZONE
TZID:UTC
BEGIN:STANDARD
TZOFFSETFROM:+0000
TZOFFSETTO:+0000
TZNAME:UTC
DTSTART:20220101T000000
END:STANDARD
END:VTIMEZONE
BEGIN:VEVENT
DTSTART;TZID=UTC:20220117T180000
DTEND;TZID=UTC:20220117T200000
DTSTAMP:20260423T024126
CREATED:20211216T150703Z
LAST-MODIFIED:20211216T150859Z
UID:5034-1642442400-1642449600@animalrebellion.org
SUMMARY:Online DNA Strategy Workshop
DESCRIPTION:This online workshop is all about our core purpose as a movement\, what our goals are and what tools we use to get there. Learn about the pillars of support\, why we aim our actions towards the Government\, how we shift hearts and minds of the public and the key principles of Civil Disobedience. There is an opportunity to explore these concepts together and discuss our strategy. \nThe workshop will be held via Zoom. Register for the workshop here:\nhttps://us02web.zoom.us/meeting/register/tZUqduygqzssHtHs8XnzYs6c64Dlnn2WZU8Y
URL:https://animalrebellion.org/event/online-strategy-dna-workshop/
CATEGORIES:DNA
ATTACH;FMTTYPE=image/jpeg:https://animalrebellion.org/wp-content/uploads/2021/12/strategy-dna.jpg
END:VEVENT
END:VCALENDAR