BEGIN:VCALENDAR
VERSION:2.0
PRODID:-//Animal Rebellion - ECPv6.4.0.1//NONSGML v1.0//EN
CALSCALE:GREGORIAN
METHOD:PUBLISH
X-WR-CALNAME:Animal Rebellion
X-ORIGINAL-URL:https://animalrebellion.org
X-WR-CALDESC:Events for Animal Rebellion
REFRESH-INTERVAL;VALUE=DURATION:PT1H
X-Robots-Tag:noindex
X-PUBLISHED-TTL:PT1H
BEGIN:VTIMEZONE
TZID:UTC
BEGIN:STANDARD
TZOFFSETFROM:+0000
TZOFFSETTO:+0000
TZNAME:UTC
DTSTART:20220101T000000
END:STANDARD
END:VTIMEZONE
BEGIN:VEVENT
DTSTART;TZID=UTC:20220123T094500
DTEND;TZID=UTC:20220123T180000
DTSTAMP:20260423T024113
CREATED:20211220T104209Z
LAST-MODIFIED:20211220T104209Z
UID:5048-1642931100-1642960800@animalrebellion.org
SUMMARY:DNA Workshop
DESCRIPTION:This core training will cover everything you need to know about Animal Rebellion and our theory of change! What is the social theory we use for our strategy\, what is strategic messaging and framing? How is our culture and structure organised?\n\nThis workshop will be an in-person event (if restrictions allow it). Register here:\nhttps://forms.gle/smoAQWDi6H2t8vx5A
URL:https://animalrebellion.org/event/dna-workshop-3/
LOCATION:Finsbury Park\, London
CATEGORIES:DNA
ATTACH;FMTTYPE=image/jpeg:https://animalrebellion.org/wp-content/uploads/2021/09/207E53D2-6FC9-435D-80A9-538FDBFD29FD.jpeg
END:VEVENT
END:VCALENDAR