BEGIN:VCALENDAR
VERSION:2.0
PRODID:-//Animal Rebellion - ECPv6.4.0.1//NONSGML v1.0//EN
CALSCALE:GREGORIAN
METHOD:PUBLISH
X-ORIGINAL-URL:https://animalrebellion.org
X-WR-CALDESC:Events for Animal Rebellion
REFRESH-INTERVAL;VALUE=DURATION:PT1H
X-Robots-Tag:noindex
X-PUBLISHED-TTL:PT1H
BEGIN:VTIMEZONE
TZID:UTC
BEGIN:STANDARD
TZOFFSETFROM:+0000
TZOFFSETTO:+0000
TZNAME:UTC
DTSTART:20220101T000000
END:STANDARD
END:VTIMEZONE
BEGIN:VEVENT
DTSTART;TZID=UTC:20220127T190000
DTEND;TZID=UTC:20220127T210000
DTSTAMP:20260423T024147
CREATED:20211215T120817Z
LAST-MODIFIED:20211215T120817Z
UID:5020-1643310000-1643317200@animalrebellion.org
SUMMARY:Online DNA Structure Workshop
DESCRIPTION:This online workshop is an opportunity to explore Animal Rebellion UK’s structure of coordination and learn about how we make decisions. What are the key principles\, ways of working and challenges of our Self-Organising-System and how is it expanding as we continually grow? Discuss leadership\, autonomy and the fundamental building blocks of trust and communication. \nThe workshop will be held via Zoom. Register for the workshop here:\nhttps://us02web.zoom.us/meeting/register/tZItc-yoqzkuEtN1gYbf49jW1uSk-Xq5efog
URL:https://animalrebellion.org/event/online-dna-structure-workshop/
CATEGORIES:DNA
ATTACH;FMTTYPE=image/jpeg:https://animalrebellion.org/wp-content/uploads/2021/12/structure-dna.jpg
END:VEVENT
END:VCALENDAR