BEGIN:VCALENDAR
VERSION:2.0
PRODID:-//Animal Rebellion - ECPv6.4.0.1//NONSGML v1.0//EN
CALSCALE:GREGORIAN
METHOD:PUBLISH
X-WR-CALNAME:Animal Rebellion
X-ORIGINAL-URL:https://animalrebellion.org
X-WR-CALDESC:Events for Animal Rebellion
REFRESH-INTERVAL;VALUE=DURATION:PT1H
X-Robots-Tag:noindex
X-PUBLISHED-TTL:PT1H
BEGIN:VTIMEZONE
TZID:UTC
BEGIN:STANDARD
TZOFFSETFROM:+0000
TZOFFSETTO:+0000
TZNAME:UTC
DTSTART:20220101T000000
END:STANDARD
END:VTIMEZONE
BEGIN:VEVENT
DTSTART;TZID=UTC:20220130T110000
DTEND;TZID=UTC:20220130T140000
DTSTAMP:20260423T024115
CREATED:20220110T191729Z
LAST-MODIFIED:20220110T191729Z
UID:5091-1643540400-1643551200@animalrebellion.org
SUMMARY:Animal Rebellion Social Sundays
DESCRIPTION:Relaxed cafe social to bring together the Animal Rebellion Community!\n\nPlease drop in to our favourite cafe by Finsbury Park between 11-2 for socialising\, community building\, and discussion.\nAll you need is yourself\, we are a super friendly group and eager to meet some new faces! Newbies and quiet people always welcome.
URL:https://animalrebellion.org/event/animal-rebellion-social-sundays/
LOCATION:Blighty’s Cafe\, 35 Blackstock Road\, London\, N4 2JF\, United Kingdom
ATTACH;FMTTYPE=image/png:https://animalrebellion.org/wp-content/uploads/2022/01/Social-sundays-facebook-event-banner.png
END:VEVENT
END:VCALENDAR