BEGIN:VCALENDAR
VERSION:2.0
PRODID:-//Animal Rebellion - ECPv6.4.0.1//NONSGML v1.0//EN
CALSCALE:GREGORIAN
METHOD:PUBLISH
X-ORIGINAL-URL:https://animalrebellion.org
X-WR-CALDESC:Events for Animal Rebellion
REFRESH-INTERVAL;VALUE=DURATION:PT1H
X-Robots-Tag:noindex
X-PUBLISHED-TTL:PT1H
BEGIN:VTIMEZONE
TZID:Europe/London
BEGIN:DAYLIGHT
TZOFFSETFROM:+0000
TZOFFSETTO:+0100
TZNAME:BST
DTSTART:20220327T010000
END:DAYLIGHT
BEGIN:STANDARD
TZOFFSETFROM:+0100
TZOFFSETTO:+0000
TZNAME:GMT
DTSTART:20221030T010000
END:STANDARD
END:VTIMEZONE
BEGIN:VEVENT
DTSTART;TZID=Europe/London:20220212T170000
DTEND;TZID=Europe/London:20220212T183000
DTSTAMP:20260423T011428
CREATED:20220209T115319Z
LAST-MODIFIED:20220209T115537Z
UID:5816-1644685200-1644690600@animalrebellion.org
SUMMARY:Welcome Talk
DESCRIPTION:Have you ever felt furious or terrified at the unfolding of the climate and ecological crises but didn’t know what you could do? Are you disgusted by the injustice of the animal agriculture industry but feel like individual consumer choices are not enough? Maybe you have heard of Animal Rebellion and are wondering what all the fuss is about? Or perhaps you know what’s up but are wondering how to get involved? \nIf any of the above applies to you\, why not come along to our Welcome to Animal Rebellion talk? This is where we will break it all down for you. \nWe will discuss who we are and what our strategy to achieve change is. Most importantly\, we will show you how you have the power to make a difference\, wherever you are and whatever you have to offer.\nTogether we will win the future we need! \nSign up to the talk here: https://www.eventbrite.co.uk/e/261319131557
URL:https://animalrebellion.org/event/welcome-talk-copy/
ATTACH;FMTTYPE=image/jpeg:https://animalrebellion.org/wp-content/uploads/2021/10/Welcome-Web-e1644407568702.jpg
END:VEVENT
END:VCALENDAR