BEGIN:VCALENDAR
VERSION:2.0
PRODID:-//Animal Rebellion - ECPv6.4.0.1//NONSGML v1.0//EN
CALSCALE:GREGORIAN
METHOD:PUBLISH
X-WR-CALNAME:Animal Rebellion
X-ORIGINAL-URL:https://animalrebellion.org
X-WR-CALDESC:Events for Animal Rebellion
REFRESH-INTERVAL;VALUE=DURATION:PT1H
X-Robots-Tag:noindex
X-PUBLISHED-TTL:PT1H
BEGIN:VTIMEZONE
TZID:Europe/London
BEGIN:DAYLIGHT
TZOFFSETFROM:+0000
TZOFFSETTO:+0100
TZNAME:BST
DTSTART:20220327T010000
END:DAYLIGHT
BEGIN:STANDARD
TZOFFSETFROM:+0100
TZOFFSETTO:+0000
TZNAME:GMT
DTSTART:20221030T010000
END:STANDARD
END:VTIMEZONE
BEGIN:VEVENT
DTSTART;TZID=Europe/London:20220213T110000
DTEND;TZID=Europe/London:20220213T150000
DTSTAMP:20260423T011355
CREATED:20220208T193237Z
LAST-MODIFIED:20220208T193237Z
UID:5776-1644750000-1644764400@animalrebellion.org
SUMMARY:Social Sundays
DESCRIPTION:Relaxed cafe social to bring together the Animal Rebellion Community! \nPlease drop in to our favourite plant-based cafe in Islington between 11-2 for socialising\, community building\, and discussion. Please note that on the last Sunday of the month\, this event will not run as we will have a pub social in the evening. \nJoin our WhatsApp here: https://chat.whatsapp.com/HYcMc8iZ140BPOxE6yhp09 \nAll you need is yourself\, we are a super friendly group and eager to meet some new faces! Newbies and quiet people always welcome. \nLet us know if we can support you in any way.
URL:https://animalrebellion.org/event/social-sundays/
LOCATION:Copperhouse Chocolate Cafe\, 1 Chapel Market\, London\, N1 9EZ\, United Kingdom
ATTACH;FMTTYPE=image/png:https://animalrebellion.org/wp-content/uploads/2022/01/Social-sundays-facebook-event-banner.png
END:VEVENT
END:VCALENDAR