BEGIN:VCALENDAR
VERSION:2.0
PRODID:-//Animal Rebellion - ECPv6.4.0.1//NONSGML v1.0//EN
CALSCALE:GREGORIAN
METHOD:PUBLISH
X-WR-CALNAME:Animal Rebellion
X-ORIGINAL-URL:https://animalrebellion.org
X-WR-CALDESC:Events for Animal Rebellion
REFRESH-INTERVAL;VALUE=DURATION:PT1H
X-Robots-Tag:noindex
X-PUBLISHED-TTL:PT1H
BEGIN:VTIMEZONE
TZID:Europe/London
BEGIN:DAYLIGHT
TZOFFSETFROM:+0000
TZOFFSETTO:+0100
TZNAME:BST
DTSTART:20220327T010000
END:DAYLIGHT
BEGIN:STANDARD
TZOFFSETFROM:+0100
TZOFFSETTO:+0000
TZNAME:GMT
DTSTART:20221030T010000
END:STANDARD
END:VTIMEZONE
BEGIN:VEVENT
DTSTART;TZID=Europe/London:20220215T183000
DTEND;TZID=Europe/London:20220215T193000
DTSTAMP:20260423T011349
CREATED:20220208T145141Z
LAST-MODIFIED:20220325T091608Z
UID:5765-1644949800-1644953400@animalrebellion.org
SUMMARY:Know Your Rights
DESCRIPTION:Our know your rights traning gose over the basics of what you may need to know when going out to a protest\, and what to expect if you decide to get arrested.\nWe will be going over the powers of the police at protests so people don’t have to be feel like you are being bullied by the police.\nWhat rights you have while in custody & what to expect while you are awaiting your realise.\n\nRegister in advance for this meeting:\n\nhttps://us06web.zoom.us/meeting/register/tZ0qdOugqDkoHNzr7pgPGLbctZD4zXEj71O1
URL:https://animalrebellion.org/event/know-your-rights-5/
LOCATION:Online
ATTACH;FMTTYPE=image/jpeg:https://animalrebellion.org/wp-content/uploads/2022/02/Know-Your-Rights-FB.jpeg
END:VEVENT
BEGIN:VEVENT
DTSTART;TZID=Europe/London:20220215T190000
DTEND;TZID=Europe/London:20220215T203000
DTSTAMP:20260423T011349
CREATED:20220209T120310Z
LAST-MODIFIED:20220209T120310Z
UID:5822-1644951600-1644957000@animalrebellion.org
SUMMARY:2022 Plant-Based Schools Campaign
DESCRIPTION:Join us in our 2022 campaign: Plant-Based Schools and Councils!\n\nCome along to find out how to get involved as we demand that local councils stop serving animal products in their schools and council events to combat the climate crisis.\n\nWe’ve had some wins with Oxfordshire recently voting for only plant-based food at council events. Flintshire in North Wales is moving towards plant-based days in 70 primary schools and 11 high schools. North Yorkshire have introduced one veg day per week.\n\nSign up for our talk today to find out how you can be part of this incredible journey: https://actionnetwork.org/…/plant-based-councils…\n\nYou can also register your interest to get updates on the campaign: https://actionnetwork.org/…/local-council-campaign-to..
URL:https://animalrebellion.org/event/2022-plant-based-schools-campaign/
ATTACH;FMTTYPE=image/jpeg:https://animalrebellion.org/wp-content/uploads/2022/02/272981544_1111178886301013_8898898729922796338_n.jpg
END:VEVENT
END:VCALENDAR