BEGIN:VCALENDAR
VERSION:2.0
PRODID:-//Animal Rebellion - ECPv6.4.0.1//NONSGML v1.0//EN
CALSCALE:GREGORIAN
METHOD:PUBLISH
X-ORIGINAL-URL:https://animalrebellion.org
X-WR-CALDESC:Events for Animal Rebellion
REFRESH-INTERVAL;VALUE=DURATION:PT1H
X-Robots-Tag:noindex
X-PUBLISHED-TTL:PT1H
BEGIN:VTIMEZONE
TZID:Europe/London
BEGIN:DAYLIGHT
TZOFFSETFROM:+0000
TZOFFSETTO:+0100
TZNAME:BST
DTSTART:20220327T010000
END:DAYLIGHT
BEGIN:STANDARD
TZOFFSETFROM:+0100
TZOFFSETTO:+0000
TZNAME:GMT
DTSTART:20221030T010000
END:STANDARD
END:VTIMEZONE
BEGIN:VEVENT
DTSTART;TZID=Europe/London:20220306T110000
DTEND;TZID=Europe/London:20220306T150000
DTSTAMP:20260422T235217
CREATED:20220301T132434Z
LAST-MODIFIED:20220301T132515Z
UID:6012-1646564400-1646578800@animalrebellion.org
SUMMARY:Social Sundays
DESCRIPTION:Relaxed cafe social to bring together the Animal Rebellion Community!\n\n\nPlease drop in to our favourite plant-based cafe in Islington between 11-2 for socialising\, community building\, and discussion. \n\nJoin our whatsapp here: https://chat.whatsapp.com/HYcMc8iZ140BPOxE6yhp09\n\nAll you need is yourself\, we are a super friendly group and eager to meet some new faces! Newbies and quiet people always welcome.\n\nMessage us if you need any support or someone to meet you on the day!
URL:https://animalrebellion.org/event/social-sundays-2-copy/
LOCATION:Copperhouse Chocolate Cafe\, 1 Chapel Market\, London\, N1 9EZ\, United Kingdom
ATTACH;FMTTYPE=image/png:https://animalrebellion.org/wp-content/uploads/2022/01/Social-sundays-facebook-event-banner.png
END:VEVENT
BEGIN:VEVENT
DTSTART;TZID=Europe/London:20220306T180000
DTEND;TZID=Europe/London:20220306T200000
DTSTAMP:20260422T235217
CREATED:20220305T154403Z
LAST-MODIFIED:20220305T154403Z
UID:6076-1646589600-1646596800@animalrebellion.org
SUMMARY:Plant Based Future Talk
DESCRIPTION:As the IPCC has confirmed\, the climate is changing rapidly and we are all witnessing the breakdown of our eco system. But what’s actually happening and what can we do about it? In this talk\, Animal Rebellion summarises what has caused the climate emergency\, what we can do about it and how to get involved.\nJoin us for this online talk and learn more about the climate breakdown\, meet new people and ask any questions. \nWe may be facing dark times ahead but there’s always an opportunity for positive change. We come in peace\, love and solidarity and invite you to join us in this rebellion!
URL:https://animalrebellion.org/event/plant-based-future-talk-7/
ATTACH;FMTTYPE=image/jpeg:https://animalrebellion.org/wp-content/uploads/2022/03/Plant-Based-Future.jpg
END:VEVENT
END:VCALENDAR