BEGIN:VCALENDAR
VERSION:2.0
PRODID:-//Animal Rebellion - ECPv6.4.0.1//NONSGML v1.0//EN
CALSCALE:GREGORIAN
METHOD:PUBLISH
X-ORIGINAL-URL:https://animalrebellion.org
X-WR-CALDESC:Events for Animal Rebellion
REFRESH-INTERVAL;VALUE=DURATION:PT1H
X-Robots-Tag:noindex
X-PUBLISHED-TTL:PT1H
BEGIN:VTIMEZONE
TZID:Europe/London
BEGIN:DAYLIGHT
TZOFFSETFROM:+0000
TZOFFSETTO:+0100
TZNAME:BST
DTSTART:20220327T010000
END:DAYLIGHT
BEGIN:STANDARD
TZOFFSETFROM:+0100
TZOFFSETTO:+0000
TZNAME:GMT
DTSTART:20221030T010000
END:STANDARD
END:VTIMEZONE
BEGIN:VEVENT
DTSTART;TZID=Europe/London:20220331T180000
DTEND;TZID=Europe/London:20220331T190000
DTSTAMP:20260422T235211
CREATED:20220325T085537Z
LAST-MODIFIED:20220325T113627Z
UID:6292-1648749600-1648753200@animalrebellion.org
SUMMARY:Know Your Rights!
DESCRIPTION:Rebellion season is here!  \n\n\n\nAre you wanting to attend an action or demonstration? Would you like to show your support to rebels who are on the front lines causing disruption? How can you be prepared? \n\n\n\nOur know your rights training goes over the basics of what you may need to know when going out to a protest\, and what to expect if you decide to get arrested. We will be going over the powers of the police at protests so people don’t have to be feel like you are being bullied by the police. What rights you have while in custody & what to expect while you are awaiting your release. Register to attend the event here: \n\n\n\nhttps://www.eventbrite.co.uk/e/305572454437
URL:https://animalrebellion.org/event/6292/
CATEGORIES:Rebellion,Talks & Trainings
ATTACH;FMTTYPE=image/jpeg:https://animalrebellion.org/wp-content/uploads/2022/02/Know-Your-Rights-FB.jpeg
END:VEVENT
END:VCALENDAR