BEGIN:VCALENDAR
VERSION:2.0
PRODID:-//Animal Rebellion - ECPv6.4.0.1//NONSGML v1.0//EN
CALSCALE:GREGORIAN
METHOD:PUBLISH
X-ORIGINAL-URL:https://animalrebellion.org
X-WR-CALDESC:Events for Animal Rebellion
REFRESH-INTERVAL;VALUE=DURATION:PT1H
X-Robots-Tag:noindex
X-PUBLISHED-TTL:PT1H
BEGIN:VTIMEZONE
TZID:Europe/London
BEGIN:DAYLIGHT
TZOFFSETFROM:+0000
TZOFFSETTO:+0100
TZNAME:BST
DTSTART:20220327T010000
END:DAYLIGHT
BEGIN:STANDARD
TZOFFSETFROM:+0100
TZOFFSETTO:+0000
TZNAME:GMT
DTSTART:20221030T010000
END:STANDARD
END:VTIMEZONE
BEGIN:VEVENT
DTSTART;TZID=Europe/London:20220616T190000
DTEND;TZID=Europe/London:20220616T200000
DTSTAMP:20260422T195026
CREATED:20220608T083952Z
LAST-MODIFIED:20220608T083952Z
UID:6824-1655406000-1655409600@animalrebellion.org
SUMMARY:Join Us To Stop The Supply of Dairy
DESCRIPTION: JOIN US TO STOP THE SUPPLY OF DAIRY THIS SEPTEMBER  \n\n\n\nRegister to hear about how 500 people will be engaging in civil resistance this September\, and how you can join them!We will be holding animal agriculture and the British Government to account.We are demanding a plant-based future and just transition for all.This Changes Everything. \n\n\n\nRegister in advance for this meeting: \n\n\n\nhttps://us02web.zoom.us/meeting/register/tZcudeysqjIrGdXXY6yMHhm8uEgyi_irSOwG
URL:https://animalrebellion.org/event/join-us-to-stop-the-supply-of-dairy/
ATTACH;FMTTYPE=image/jpeg:https://animalrebellion.org/wp-content/uploads/2022/06/signal-2022-06-08-092450_001.jpeg
END:VEVENT
END:VCALENDAR