BEGIN:VCALENDAR
VERSION:2.0
PRODID:-//Animal Rebellion - ECPv6.4.0.1//NONSGML v1.0//EN
CALSCALE:GREGORIAN
METHOD:PUBLISH
X-ORIGINAL-URL:https://animalrebellion.org
X-WR-CALDESC:Events for Animal Rebellion
REFRESH-INTERVAL;VALUE=DURATION:PT1H
X-Robots-Tag:noindex
X-PUBLISHED-TTL:PT1H
BEGIN:VTIMEZONE
TZID:Europe/London
BEGIN:DAYLIGHT
TZOFFSETFROM:+0000
TZOFFSETTO:+0100
TZNAME:BST
DTSTART:20220327T010000
END:DAYLIGHT
BEGIN:STANDARD
TZOFFSETFROM:+0100
TZOFFSETTO:+0000
TZNAME:GMT
DTSTART:20221030T010000
END:STANDARD
END:VTIMEZONE
BEGIN:VEVENT
DTSTART;TZID=Europe/London:20220623T190000
DTEND;TZID=Europe/London:20220623T203000
DTSTAMP:20260422T195026
CREATED:20220607T085909Z
LAST-MODIFIED:20220607T113751Z
UID:6800-1656010800-1656016200@animalrebellion.org
SUMMARY:Stream of Solidarity with Dr Camila Perussello
DESCRIPTION:Dr Camila Perussello is a food scientist\, vegan and author based in Dublin\, Ireland. A former researcher at the Irish Food and Agriculture Development Authority and the Technological University Dublin\, she now consults for the food industry helping companies transition away from animal use. Dr Perussello has published dozens of academic papers and book chapters on food engineering and agricultural science. She is also the author of Food for Thought\, a science-based book on the intersection of food production\, animal rights\, and a wide range of humanist issues. For more details about her work\, please visit www.camilaperussello.com. \n\n\n\nDr Perussello will deliver her prevention “Animal welfare: for the animals or profit?” followed by a Q&A. \n\n\n\nThroughout decades\, the animal exploitation industry has been gradually implementing animal welfare measures mainly as a response to public pressure. To many\, “humane” slaughter techniques\, cage enrichment in egg farms and the ban on sow stalls might seem like important achievements in terms of how we treat nonhuman animals. However\, most of us fail to realise that the objective of animal farming is deriving money from animals. In this presentation\, Dr. Camila Perussello will discuss how the animal welfare narrative not only masks the inherent suffering involved in animal use\, but can also leverage the revenue of the animal industry by increasing productivity and improving brand reputation. Through our food purchases\, we can either perpetuate injustice and environmental destruction or reshape industry and society. \n\n\n\n \n\n\n\nhttps://www.eventbrite.co.uk/e/358414045057
URL:https://animalrebellion.org/event/stream-of-solidarity-with-dr-camila-perussello/
ATTACH;FMTTYPE=image/jpeg:https://animalrebellion.org/wp-content/uploads/2022/06/photo_2022-06-06-18.15.17.jpeg
END:VEVENT
BEGIN:VEVENT
DTSTART;TZID=Europe/London:20220623T190000
DTEND;TZID=Europe/London:20220623T200000
DTSTAMP:20260422T195026
CREATED:20220614T164938Z
LAST-MODIFIED:20220614T164938Z
UID:6875-1656010800-1656014400@animalrebellion.org
SUMMARY:Join Us To Stop The Supply of Dairy
DESCRIPTION:This September Animal Rebellion will be nonviolently stopping the supply of dairy across the UK with 500 people over a 1-2 week period\, cutting off the supply of milk to supermarkets and causing unignorable high-level disruption which will be felt by tens of million of people across the UK. \n\n\n\nBy causing this disruption day after day we will transform public opinion and pressure the government to act.  \n\n\n\nWe must take this action because billions of animals are dying in the dairy industry and other animal farming and fishing industries. We must take this action because we are in a climate and nature emergency and what we do in the next 2-3 years will determine the future of humanity.  \n\n\n\nThe science us that transitioning to a plant-based future and rewilding the freed-up land is the key solution to the climate and nature emergencies. We can bring back wildlife and drawdown enough carbon from the atmosphere to make the UK net negative in emissions. This will buy us the critical time we need to make other transformative changes and prevent environmental catastrophe. We will be demanding this of the government. \n\n\n\nCome along to this talk to hear about the campaign and find out how you can get involved. We rebel for all life. \n\n\n\n \n\n\n\nhttps://www.eventbrite.co.uk/e/365525565807
URL:https://animalrebellion.org/event/join-us-to-stop-the-supply-of-dairy-2/
ATTACH;FMTTYPE=image/jpeg:https://animalrebellion.org/wp-content/uploads/2022/06/signal-2022-06-08-092450_001.jpeg
END:VEVENT
BEGIN:VEVENT
DTSTART;TZID=Europe/London:20220623T190000
DTEND;TZID=Europe/London:20220623T200000
DTSTAMP:20260422T195026
CREATED:20220627T102537Z
LAST-MODIFIED:20220627T102537Z
UID:6913-1656010800-1656014400@animalrebellion.org
SUMMARY:Join Us To Stop The Supply of Dairy Copy Copy
DESCRIPTION:This September Animal Rebellion will be nonviolently stopping the supply of dairy across the UK with 500 people over a 1-2 week period\, cutting off the supply of milk to supermarkets and causing unignorable high-level disruption which will be felt by tens of million of people across the UK. \n\n\n\nBy causing this disruption day after day we will transform public opinion and pressure the government to act.  \n\n\n\nWe must take this action because billions of animals are dying in the dairy industry and other animal farming and fishing industries. We must take this action because we are in a climate and nature emergency and what we do in the next 2-3 years will determine the future of humanity.  \n\n\n\nThe science us that transitioning to a plant-based future and rewilding the freed-up land is the key solution to the climate and nature emergencies. We can bring back wildlife and drawdown enough carbon from the atmosphere to make the UK net negative in emissions. This will buy us the critical time we need to make other transformative changes and prevent environmental catastrophe. We will be demanding this of the government. \n\n\n\nCome along to this talk to hear about the campaign and find out how you can get involved. We rebel for all life. \n\n\n\n \n\n\n\nhttps://www.eventbrite.co.uk/e/365525565807
URL:https://animalrebellion.org/event/join-us-to-stop-the-supply-of-dairy-2-copy-copy/
ATTACH;FMTTYPE=image/jpeg:https://animalrebellion.org/wp-content/uploads/2022/06/signal-2022-06-08-092450_001.jpeg
END:VEVENT
END:VCALENDAR