BEGIN:VCALENDAR
VERSION:2.0
PRODID:-//Animal Rebellion - ECPv6.4.0.1//NONSGML v1.0//EN
CALSCALE:GREGORIAN
METHOD:PUBLISH
X-WR-CALNAME:Animal Rebellion
X-ORIGINAL-URL:https://animalrebellion.org
X-WR-CALDESC:Events for Animal Rebellion
REFRESH-INTERVAL;VALUE=DURATION:PT1H
X-Robots-Tag:noindex
X-PUBLISHED-TTL:PT1H
BEGIN:VTIMEZONE
TZID:Europe/London
BEGIN:DAYLIGHT
TZOFFSETFROM:+0000
TZOFFSETTO:+0100
TZNAME:BST
DTSTART:20220327T010000
END:DAYLIGHT
BEGIN:STANDARD
TZOFFSETFROM:+0100
TZOFFSETTO:+0000
TZNAME:GMT
DTSTART:20221030T010000
END:STANDARD
END:VTIMEZONE
BEGIN:VEVENT
DTSTART;TZID=Europe/London:20220714T190000
DTEND;TZID=Europe/London:20220714T203000
DTSTAMP:20260422T182324
CREATED:20220607T113519Z
LAST-MODIFIED:20220607T113520Z
UID:6808-1657825200-1657830600@animalrebellion.org
SUMMARY:Stream of Solidarity with Mo Markham &Eleanor Carrere
DESCRIPTION:Mo has been involved with Waterloo Region Climate Initiatives\, the Eating Animals Causes Pandemics campaign\, and the OneHealth Advocacy Project. She has helped create climate strikes; organises her local vegfest; has had articles and letters to the editor published on a variety of issues; has taken part in animal rights and social justice actions and campaigns in Ontario\, in Canada\, and across the world. \n\n\n\nEleanor as been a committed lifelong animal rights and environmental activist with a focus on transitioning institutions to a plant-based food system. She is the Outreach and Policy Lead with Nation Rising\, an organiser with  the Plant-Based Cities Movement\, and a member of the Coalition for a Sustainable Food Transition and  also heads the Canadian university campaign working with the senior leadership to promote the plant-based transition Universities and Plant-Based Meals. \n\n\n\n \n\n\n\nhttps://www.eventbrite.co.uk/e/359368459737
URL:https://animalrebellion.org/event/stream-of-solidarity-with-mo-markham-eleanor-carrere/
ATTACH;FMTTYPE=image/jpeg:https://animalrebellion.org/wp-content/uploads/2022/06/photo_2022-06-06-18.15.28.jpeg
END:VEVENT
BEGIN:VEVENT
DTSTART;TZID=Europe/London:20220714T190000
DTEND;TZID=Europe/London:20220714T203000
DTSTAMP:20260422T182324
CREATED:20220720T080152Z
LAST-MODIFIED:20220720T080152Z
UID:7171-1657825200-1657830600@animalrebellion.org
SUMMARY:Stream of Solidarity with Mo Markham &Eleanor Carrere Copy
DESCRIPTION:Mo has been involved with Waterloo Region Climate Initiatives\, the Eating Animals Causes Pandemics campaign\, and the OneHealth Advocacy Project. She has helped create climate strikes; organises her local vegfest; has had articles and letters to the editor published on a variety of issues; has taken part in animal rights and social justice actions and campaigns in Ontario\, in Canada\, and across the world. \n\n\n\nEleanor as been a committed lifelong animal rights and environmental activist with a focus on transitioning institutions to a plant-based food system. She is the Outreach and Policy Lead with Nation Rising\, an organiser with  the Plant-Based Cities Movement\, and a member of the Coalition for a Sustainable Food Transition and  also heads the Canadian university campaign working with the senior leadership to promote the plant-based transition Universities and Plant-Based Meals. \n\n\n\n \n\n\n\nhttps://www.eventbrite.co.uk/e/359368459737
URL:https://animalrebellion.org/event/stream-of-solidarity-with-mo-markham-eleanor-carrere-copy/
ATTACH;FMTTYPE=image/jpeg:https://animalrebellion.org/wp-content/uploads/2022/06/photo_2022-06-06-18.15.28.jpeg
END:VEVENT
END:VCALENDAR