BEGIN:VCALENDAR
VERSION:2.0
PRODID:-//Animal Rebellion - ECPv6.4.0.1//NONSGML v1.0//EN
CALSCALE:GREGORIAN
METHOD:PUBLISH
X-ORIGINAL-URL:https://animalrebellion.org
X-WR-CALDESC:Events for Animal Rebellion
REFRESH-INTERVAL;VALUE=DURATION:PT1H
X-Robots-Tag:noindex
X-PUBLISHED-TTL:PT1H
BEGIN:VTIMEZONE
TZID:Europe/London
BEGIN:DAYLIGHT
TZOFFSETFROM:+0000
TZOFFSETTO:+0100
TZNAME:BST
DTSTART:20220327T010000
END:DAYLIGHT
BEGIN:STANDARD
TZOFFSETFROM:+0100
TZOFFSETTO:+0000
TZNAME:GMT
DTSTART:20221030T010000
END:STANDARD
END:VTIMEZONE
BEGIN:VEVENT
DTSTART;TZID=Europe/London:20220719T190000
DTEND;TZID=Europe/London:20220719T210000
DTSTAMP:20260422T182444
CREATED:20220718T175134Z
LAST-MODIFIED:20220718T175135Z
UID:7154-1658257200-1658264400@animalrebellion.org
SUMMARY:Plant-Based Future: York Talk
DESCRIPTION:This September Animal Rebellion will be nonviolently stopping the supply of dairy across the UK with 500 people over a 1-2 week period. Causing this level of disruption day after day will transform public opinion and pressure the government to act on our climate and animal emergencies. \n\n\n\nWe must take this action because billions of animals are dying in the meat\, dairy\, and fishing industries. \n\n\n\nWe must take this action because we are in a climate and nature emergency and our actions in the next 2-3 years will determine the future survival of humanity. \n\n\n\nThe science is clear: transitioning to a plant-based future and rewilding the freed-up land is a crucial solution to these crises\, bringing back wildlife and drawing-down carbon from the atmosphere. \n\n\n\nCome along to our York talk to hear about the campaign and find out how you can get involved. \n\n\n\nLocation: Crescent Community Venue\, 8 The Crescent\, York\, YO24 1AW
URL:https://animalrebellion.org/event/plant-based-future-york-talk/
LOCATION:Crescent Community Venue\, 8 The Crescent\, York\, YO24 1AW\, United Kingdom
CATEGORIES:Local Groups,North
ATTACH;FMTTYPE=image/jpeg:https://animalrebellion.org/wp-content/uploads/2022/06/signal-2022-06-08-092450_001.jpeg
END:VEVENT
END:VCALENDAR