BEGIN:VCALENDAR
VERSION:2.0
PRODID:-//Animal Rebellion - ECPv6.4.0.1//NONSGML v1.0//EN
CALSCALE:GREGORIAN
METHOD:PUBLISH
X-ORIGINAL-URL:https://animalrebellion.org
X-WR-CALDESC:Events for Animal Rebellion
REFRESH-INTERVAL;VALUE=DURATION:PT1H
X-Robots-Tag:noindex
X-PUBLISHED-TTL:PT1H
BEGIN:VTIMEZONE
TZID:Europe/London
BEGIN:DAYLIGHT
TZOFFSETFROM:+0000
TZOFFSETTO:+0100
TZNAME:BST
DTSTART:20220327T010000
END:DAYLIGHT
BEGIN:STANDARD
TZOFFSETFROM:+0100
TZOFFSETTO:+0000
TZNAME:GMT
DTSTART:20221030T010000
END:STANDARD
END:VTIMEZONE
BEGIN:VEVENT
DTSTART;TZID=Europe/London:20220731T190000
DTEND;TZID=Europe/London:20220731T203000
DTSTAMP:20260422T182444
CREATED:20220726T174901Z
LAST-MODIFIED:20220726T175022Z
UID:7212-1659294000-1659299400@animalrebellion.org
SUMMARY:Hull Animal Rebellion Plant-Based Future Talk 
DESCRIPTION:Join our talk in Hull this Sunday 31st July to find out how Animal Rebellion plan to nonviolently stop the supply of dairy to supermarkets with 500 people over a 1-2 week period this September.Location: Nordic House/Danish Church104 Osborne Street\, Hull\, HU12PNEveryone is welcome\, whether you are a seasoned activist or new to veganism and wanting to know how you can make a difference.Causing this level of disruption day after day will transform public opinion and pressure the government to act on our climate and animal emergencies.We must take this action because billions of animals are dying in the meat\, dairy\, and fishing industries.We must take this action because we are in a climate and nature emergency and our actions in the next 2-3 years will determine the future survival of humanity.The science is clear: transitioning to a plant-based future and rewilding the freed-up land is a crucial solution to these crises\, bringing back wildlife and drawing-down carbon from the atmosphere.Please get in touch if you have any questions or accessibility requirements.
URL:https://animalrebellion.org/event/hull-animal-rebellion-plant-based-future-talk/
LOCATION:Danish Church\, 104 Osborne Street\, Danish Church\, Hull\, HU12PN\, United Kingdom
CATEGORIES:Local Groups,North
ATTACH;FMTTYPE=image/jpeg:https://animalrebellion.org/wp-content/uploads/2022/06/signal-2022-06-08-092450_001.jpeg
END:VEVENT
END:VCALENDAR