BEGIN:VCALENDAR
VERSION:2.0
PRODID:-//Animal Rebellion - ECPv6.4.0.1//NONSGML v1.0//EN
CALSCALE:GREGORIAN
METHOD:PUBLISH
X-WR-CALNAME:Animal Rebellion
X-ORIGINAL-URL:https://animalrebellion.org
X-WR-CALDESC:Events for Animal Rebellion
REFRESH-INTERVAL;VALUE=DURATION:PT1H
X-Robots-Tag:noindex
X-PUBLISHED-TTL:PT1H
BEGIN:VTIMEZONE
TZID:Europe/London
BEGIN:DAYLIGHT
TZOFFSETFROM:+0000
TZOFFSETTO:+0100
TZNAME:BST
DTSTART:20220327T010000
END:DAYLIGHT
BEGIN:STANDARD
TZOFFSETFROM:+0100
TZOFFSETTO:+0000
TZNAME:GMT
DTSTART:20221030T010000
END:STANDARD
END:VTIMEZONE
BEGIN:VEVENT
DTSTART;TZID=Europe/London:20220802T190000
DTEND;TZID=Europe/London:20220802T203000
DTSTAMP:20260422T165316
CREATED:20220729T193418Z
LAST-MODIFIED:20220729T193419Z
UID:7237-1659466800-1659472200@animalrebellion.org
SUMMARY:Newcastle Animal Rebellion - Plant-Based Future Talk
DESCRIPTION:Join our talk in Newcastle on Tuesday 2nd August at 19:00 to find out how Animal Rebellion plan to nonviolently stop the supply of dairy to supermarkets with 500 people over a 1-2 week period this September. \n\n\n\nEveryone is welcome\, whether you are a seasoned activist or new to veganism and wanting to know how you can make a difference. \n\n\n\nCausing this level of disruption day after day will transform public opinion and pressure the government to act on our climate and animal emergencies. \n\n\n\nWe must take this action because billions of animals are dying in the meat\, dairy\, and fishing industries. \n\n\n\nWe must take this action because we are in a climate and nature emergency and our actions in the next 2-3 years will determine the future survival of humanity. \n\n\n\nThe science is clear: transitioning to a plant-based future and rewilding the freed-up land is a crucial solution to these crises\, bringing back wildlife and drawing-down carbon from the atmosphere. \n\n\n\nCome along to our talk in Newcastle to hear about the campaign and find out how you can get involved. \n\n\n\nWhen? Tuesday 2nd August\, 19:00-20:30.Location: Earthlings – The Healing Cafe\, 94 Buckingham St\, Newcastle upon Tyne\, NE4 5QR\, England. \n\n\n\nPlease get in touch if you have any questions or accessibility requirements.
URL:https://animalrebellion.org/event/newcastle-animal-rebellion-plant-based-future-talk/
LOCATION:Earthlings – The healing Cafe\, 94 Buckingham Street\, Newcastle upon Tyne\, NE4 5QR\, United Kingdom
CATEGORIES:Local Groups,North
ATTACH;FMTTYPE=image/jpeg:https://animalrebellion.org/wp-content/uploads/2022/06/signal-2022-06-08-092450_001.jpeg
END:VEVENT
END:VCALENDAR