BEGIN:VCALENDAR
VERSION:2.0
PRODID:-//Animal Rebellion - ECPv6.4.0.1//NONSGML v1.0//EN
CALSCALE:GREGORIAN
METHOD:PUBLISH
X-WR-CALNAME:Animal Rebellion
X-ORIGINAL-URL:https://animalrebellion.org
X-WR-CALDESC:Events for Animal Rebellion
REFRESH-INTERVAL;VALUE=DURATION:PT1H
X-Robots-Tag:noindex
X-PUBLISHED-TTL:PT1H
BEGIN:VTIMEZONE
TZID:Europe/London
BEGIN:DAYLIGHT
TZOFFSETFROM:+0000
TZOFFSETTO:+0100
TZNAME:BST
DTSTART:20220327T010000
END:DAYLIGHT
BEGIN:STANDARD
TZOFFSETFROM:+0100
TZOFFSETTO:+0000
TZNAME:GMT
DTSTART:20221030T010000
END:STANDARD
END:VTIMEZONE
BEGIN:VEVENT
DTSTART;TZID=Europe/London:20220806T120000
DTEND;TZID=Europe/London:20220806T120000
DTSTAMP:20260422T165315
CREATED:20220726T132458Z
LAST-MODIFIED:20220727T135457Z
UID:7209-1659787200-1659787200@animalrebellion.org
SUMMARY:National Animal Rights March
DESCRIPTION:MARCH FOR ANIMAL LIBERATION \n\n\n\nDriven by the momentum of the Animal Rights Movement past and present\, we will unite against the exploitative system and vision a brighter future for all beings and our planet. It’s time to act – we need rapid system change to end animal exploitation! \n\n\n\nThis year’s march is a collaboration between Animal Rebellion\, Animal Freedom Movement\, North London Hunt Sabs\, Animal Justice Project and Animal Save UK to make this the biggest animal rights march yet! \n\n\n\nJoin us in demanding justice for animals! \n\n\n\nThis is the moment! \n\n\n\nMeeting Point – Marble Arch \n\n\n\nTimes: 12:00 \n\n\n\nInclusion and accessibility document: \n\n\n\nhttps://docs.google.com/document/d/1We2Jf-NzXIhiQsJWlbckMb7d3wrb5JdfaT4HYF3mXhM/edit?fbclid=IwAR1B7-gj0EjN1YnlVfb0z7Ko5AKmLL-XY9-8YT8HzhVnMoqFXtPFaxS4XjM \n\n\n\n#NationalAnimalRightsMarch
URL:https://animalrebellion.org/event/national-animal-rights-march/
ATTACH;FMTTYPE=image/jpeg:https://animalrebellion.org/wp-content/uploads/2022/07/289099240_372392708329457_5331359422742042156_n.jpg
END:VEVENT
END:VCALENDAR