BEGIN:VCALENDAR
VERSION:2.0
PRODID:-//Animal Rebellion - ECPv6.4.0.1//NONSGML v1.0//EN
CALSCALE:GREGORIAN
METHOD:PUBLISH
X-ORIGINAL-URL:https://animalrebellion.org
X-WR-CALDESC:Events for Animal Rebellion
REFRESH-INTERVAL;VALUE=DURATION:PT1H
X-Robots-Tag:noindex
X-PUBLISHED-TTL:PT1H
BEGIN:VTIMEZONE
TZID:Europe/London
BEGIN:DAYLIGHT
TZOFFSETFROM:+0000
TZOFFSETTO:+0100
TZNAME:BST
DTSTART:20220327T010000
END:DAYLIGHT
BEGIN:STANDARD
TZOFFSETFROM:+0100
TZOFFSETTO:+0000
TZNAME:GMT
DTSTART:20221030T010000
END:STANDARD
END:VTIMEZONE
BEGIN:VEVENT
DTSTART;TZID=Europe/London:20220817T190000
DTEND;TZID=Europe/London:20220817T200000
DTSTAMP:20260422T165401
CREATED:20220809T143559Z
LAST-MODIFIED:20220809T143814Z
UID:7276-1660762800-1660766400@animalrebellion.org
SUMMARY:Stream of Solidarity: the Arrested part 2
DESCRIPTION:Back by popular demand we will be talking with some more of our brave rebels who have stepped up & spoke out! \n\n\n\nWhat’s it like to be arrested for speaking up? \n\n\n\nIn this instalment of Stream of Solidarity\, we’ll be having a panel discussion with some of our Rebels\, who’ve previously been arrested. They will be sharing different experiences involving what it’s like to be in police custody for the crime of speaking against a toxic system\, along with a Q&A. \n\n\n\nThis is an opportunity\, for those who have never felt the long arm of the police\, to gain some insight as to what it’s like to be arrested\, held in police custody until interviewed. How important is it to be greeted by friends upon release & how different people cope with the experience. \n\n\n\nhttps://us06web.zoom.us/meeting/register/tZUof-uvrzwqHdJksZOwHfriS4O4mpjDgaY7
URL:https://animalrebellion.org/event/stream-of-solidarity-the-arrested-copy/
ATTACH;FMTTYPE=image/jpeg:https://animalrebellion.org/wp-content/uploads/2022/07/photo_2022-07-06-16.18.18.jpeg
END:VEVENT
END:VCALENDAR