BEGIN:VCALENDAR
VERSION:2.0
PRODID:-//Animal Rebellion - ECPv6.4.0.1//NONSGML v1.0//EN
CALSCALE:GREGORIAN
METHOD:PUBLISH
X-ORIGINAL-URL:https://animalrebellion.org
X-WR-CALDESC:Events for Animal Rebellion
REFRESH-INTERVAL;VALUE=DURATION:PT1H
X-Robots-Tag:noindex
X-PUBLISHED-TTL:PT1H
BEGIN:VTIMEZONE
TZID:Europe/London
BEGIN:DAYLIGHT
TZOFFSETFROM:+0000
TZOFFSETTO:+0100
TZNAME:BST
DTSTART:20200329T010000
END:DAYLIGHT
BEGIN:STANDARD
TZOFFSETFROM:+0100
TZOFFSETTO:+0000
TZNAME:GMT
DTSTART:20201025T010000
END:STANDARD
END:VTIMEZONE
BEGIN:VEVENT
DTSTART;TZID=Europe/London:20200703T180000
DTEND;TZID=Europe/London:20200703T190000
DTSTAMP:20260422T211502
CREATED:20200629T191521Z
LAST-MODIFIED:20200629T192147Z
UID:1383-1593799200-1593802800@animalrebellion.org
SUMMARY:Plant-Based Future: What\, Why\, and What's Next 💻💚
DESCRIPTION:In this newly revamped talk\, Animal Rebellion will lay out in simple terms what has caused this current state of climate emergency\, what could be coming next and\, most importantly\, what we can all do about it. \nCome along to learn more about the crisis gripping our beloved planet and its inhabitants\, meet like minded people and discover Animal Rebellion’s 2020 vision and strategy and how you can get involved.
URL:https://animalrebellion.org/event/plant-based-future-what-why-and-whats-next-%f0%9f%92%bb%f0%9f%92%9a/
LOCATION:https://us02web.zoom.us/meeting/register/tZwsd-mvqT4sH9BB-g5mJY-UOuxQz1MDe9cg\, https://us02web.zoom.us/meeting/register/tZwsd-mvqT4sH9BB-g5mJY-UOuxQz1MDe9cg
CATEGORIES:#AloneTogether
END:VEVENT
END:VCALENDAR