BEGIN:VCALENDAR
VERSION:2.0
PRODID:-//Animal Rebellion - ECPv6.4.0.1//NONSGML v1.0//EN
CALSCALE:GREGORIAN
METHOD:PUBLISH
X-ORIGINAL-URL:https://animalrebellion.org
X-WR-CALDESC:Events for Animal Rebellion
REFRESH-INTERVAL;VALUE=DURATION:PT1H
X-Robots-Tag:noindex
X-PUBLISHED-TTL:PT1H
BEGIN:VTIMEZONE
TZID:Europe/London
BEGIN:DAYLIGHT
TZOFFSETFROM:+0000
TZOFFSETTO:+0100
TZNAME:BST
DTSTART:20200329T010000
END:DAYLIGHT
BEGIN:STANDARD
TZOFFSETFROM:+0100
TZOFFSETTO:+0000
TZNAME:GMT
DTSTART:20201025T010000
END:STANDARD
END:VTIMEZONE
BEGIN:VEVENT
DTSTART;TZID=Europe/London:20200705T190000
DTEND;TZID=Europe/London:20200705T203000
DTSTAMP:20260422T211420
CREATED:20200629T191521Z
LAST-MODIFIED:20200629T192147Z
UID:1385-1593975600-1593981000@animalrebellion.org
SUMMARY:Police Liaison Training
DESCRIPTION:A short introduction covering the underlying strategy and practice of liaising with the police within the context of nonviolent civil disobedience at protest actions. If you are interested in getting involved in police liaison for your site or group in upcoming actions\, this introduction will cover the basic dos and don’t \, hows and whys of what has evolved into a strategic part of the rebellion. It will be a basic workshop lasting around 90 minutes. \nIdeally participants should have NVDA training\, Know Your Rights training and some action experience.
URL:https://animalrebellion.org/event/police-liaison-training/
LOCATION:https://us02web.zoom.us/meeting/register/tZIudeqtrz8sGNJWmoWeKEJOIOo5kuAsWGGu\, https://us02web.zoom.us/meeting/register/tZIudeqtrz8sGNJWmoWeKEJOIOo5kuAsWGGu
CATEGORIES:#AloneTogether
END:VEVENT
END:VCALENDAR