BEGIN:VCALENDAR
VERSION:2.0
PRODID:-//Animal Rebellion - ECPv6.4.0.1//NONSGML v1.0//EN
CALSCALE:GREGORIAN
METHOD:PUBLISH
X-WR-CALNAME:Animal Rebellion
X-ORIGINAL-URL:https://animalrebellion.org
X-WR-CALDESC:Events for Animal Rebellion
REFRESH-INTERVAL;VALUE=DURATION:PT1H
X-Robots-Tag:noindex
X-PUBLISHED-TTL:PT1H
BEGIN:VTIMEZONE
TZID:Europe/London
BEGIN:DAYLIGHT
TZOFFSETFROM:+0000
TZOFFSETTO:+0100
TZNAME:BST
DTSTART:20200329T010000
END:DAYLIGHT
BEGIN:STANDARD
TZOFFSETFROM:+0100
TZOFFSETTO:+0000
TZNAME:GMT
DTSTART:20201025T010000
END:STANDARD
END:VTIMEZONE
BEGIN:VEVENT
DTSTART;TZID=Europe/London:20200708T190000
DTEND;TZID=Europe/London:20200708T200000
DTSTAMP:20260422T235431
CREATED:20200629T191522Z
LAST-MODIFIED:20200629T192147Z
UID:1387-1594234800-1594238400@animalrebellion.org
SUMMARY:Introduction to Animal Rebellion 💻💚
DESCRIPTION:Want to know more about Animal Rebellion?⁠⁠We have an introduction session where you can learn more about us and how you can get involved. We’ll chat about our principles & values\, our demands\, and a little taster of why we do things the way we do.
URL:https://animalrebellion.org/event/introduction-to-animal-rebellion-%f0%9f%92%bb%f0%9f%92%9a-2/
LOCATION:Register here: https://us02web.zoom.us/meeting/register/tZIlfuGtrzwoGNP472CZcSyyqHYG2Boh6wGI\, Register here: https://us02web.zoom.us/meeting/register/tZIlfuGtrzwoGNP472CZcSyyqHYG2Boh6wGI
CATEGORIES:#AloneTogether
END:VEVENT
END:VCALENDAR