BEGIN:VCALENDAR
VERSION:2.0
PRODID:-//Animal Rebellion - ECPv6.4.0.1//NONSGML v1.0//EN
CALSCALE:GREGORIAN
METHOD:PUBLISH
X-WR-CALNAME:Animal Rebellion
X-ORIGINAL-URL:https://animalrebellion.org
X-WR-CALDESC:Events for Animal Rebellion
REFRESH-INTERVAL;VALUE=DURATION:PT1H
X-Robots-Tag:noindex
X-PUBLISHED-TTL:PT1H
BEGIN:VTIMEZONE
TZID:Europe/London
BEGIN:DAYLIGHT
TZOFFSETFROM:+0000
TZOFFSETTO:+0100
TZNAME:BST
DTSTART:20200329T010000
END:DAYLIGHT
BEGIN:STANDARD
TZOFFSETFROM:+0100
TZOFFSETTO:+0000
TZNAME:GMT
DTSTART:20201025T010000
END:STANDARD
END:VTIMEZONE
BEGIN:VEVENT
DTSTART;TZID=Europe/London:20200723T180000
DTEND;TZID=Europe/London:20200723T200000
DTSTAMP:20260422T211245
CREATED:20200714T231814Z
LAST-MODIFIED:20200714T231814Z
UID:1452-1595527200-1595534400@animalrebellion.org
SUMMARY:DNA Structure 💬
DESCRIPTION:This online workshop is an opportunity to explore Animal Rebellion UK’s structure of coordination and learn about how we make decisions. \nWhat are the key principles\, ways of working and challenges of our Self-Organising-System and how is it expanding as we continually grow? Discuss leadership\, autonomy and the fundamental building blocks of trust and communication.
URL:https://animalrebellion.org/event/dna-structure-%f0%9f%92%ac/
LOCATION:https://us02web.zoom.us/meeting/register/tZ0odOipqzkvHdE7kjURouQPxgZMia_20Yq-\, https://us02web.zoom.us/meeting/register/tZ0odOipqzkvHdE7kjURouQPxgZMia_20Yq-
CATEGORIES:#AloneTogether
END:VEVENT
END:VCALENDAR