BEGIN:VCALENDAR
VERSION:2.0
PRODID:-//Animal Rebellion - ECPv6.4.0.1//NONSGML v1.0//EN
CALSCALE:GREGORIAN
METHOD:PUBLISH
X-WR-CALNAME:Animal Rebellion
X-ORIGINAL-URL:https://animalrebellion.org
X-WR-CALDESC:Events for Animal Rebellion
REFRESH-INTERVAL;VALUE=DURATION:PT1H
X-Robots-Tag:noindex
X-PUBLISHED-TTL:PT1H
BEGIN:VTIMEZONE
TZID:Europe/London
BEGIN:DAYLIGHT
TZOFFSETFROM:+0000
TZOFFSETTO:+0100
TZNAME:BST
DTSTART:20200329T010000
END:DAYLIGHT
BEGIN:STANDARD
TZOFFSETFROM:+0100
TZOFFSETTO:+0000
TZNAME:GMT
DTSTART:20201025T010000
END:STANDARD
END:VTIMEZONE
BEGIN:VEVENT
DTSTART;TZID=Europe/London:20200727T171500
DTEND;TZID=Europe/London:20200727T201500
DTSTAMP:20260422T195310
CREATED:20200724T220121Z
LAST-MODIFIED:20200724T220121Z
UID:1471-1595870100-1595880900@animalrebellion.org
SUMMARY:Interactive Action Design Training
DESCRIPTION:Non-violent Direct Action is what Animal Rebellion is all about. In this three-hour long\, interactive training you will learn how to design an effective action. We will go through the basic principles of great non-violent direct actions. You will have space to discuss good and bad action design examples and will be designing your own actions during group exercises. \nEvery part of AxR needs to become a laboratory for disobedience and action design. If every person in every local group puts their mind to designing actions\, imagine the possibilities! \nWe encourage rebels to attend an NVDA and DNA workshop by AxR before joining this training. Please also note that this is an interactive session which will require active participation from those joining.
URL:https://animalrebellion.org/event/interactive-action-design-training/
LOCATION:https://us02web.zoom.us/meeting/register/tZcvceqrrDMsGdxiSxCvzVdIDEvkJ_0WiN6q\, https://us02web.zoom.us/meeting/register/tZcvceqrrDMsGdxiSxCvzVdIDEvkJ_0WiN6q
CATEGORIES:#AloneTogether
END:VEVENT
END:VCALENDAR