BEGIN:VCALENDAR
VERSION:2.0
PRODID:-//Animal Rebellion - ECPv6.4.0.1//NONSGML v1.0//EN
CALSCALE:GREGORIAN
METHOD:PUBLISH
X-WR-CALNAME:Animal Rebellion
X-ORIGINAL-URL:https://animalrebellion.org
X-WR-CALDESC:Events for Animal Rebellion
REFRESH-INTERVAL;VALUE=DURATION:PT1H
X-Robots-Tag:noindex
X-PUBLISHED-TTL:PT1H
BEGIN:VTIMEZONE
TZID:Europe/London
BEGIN:DAYLIGHT
TZOFFSETFROM:+0000
TZOFFSETTO:+0100
TZNAME:BST
DTSTART:20200329T010000
END:DAYLIGHT
BEGIN:STANDARD
TZOFFSETFROM:+0100
TZOFFSETTO:+0000
TZNAME:GMT
DTSTART:20201025T010000
END:STANDARD
END:VTIMEZONE
BEGIN:VEVENT
DTSTART;TZID=Europe/London:20200820T183000
DTEND;TZID=Europe/London:20200820T203000
DTSTAMP:20260422T211130
CREATED:20200814T195256Z
LAST-MODIFIED:20200814T195256Z
UID:1528-1597948200-1597955400@animalrebellion.org
SUMMARY:Action Wellbeing Training
DESCRIPTION:Join the call here: https://us02web.zoom.us/j/81779211320?pwd=VW1zeGxnemFhd3RCR1p6RWZKamhtQT09 \nThis is a 2 hour online training which is intended as an introduction to Action Wellbeing support at Actions which we recommend attending if you are interested in taking on a Wellbeing role at actions. Action Wellbeing is an essential part of creating a regenerative action. It promotes the wellbeing of ourselves and others\, strengthening connection and resilience.  \nThe training will explore some techniques including active listening\, grounding and self soothing exercises\, roles within Action Wellbeing\, and what it might look like on the ground. You will also be sent a beautiful Action Wellbeing Handbook and you are welcome to get in touch with your trainer at any point if you want to discuss any further aspects of Action Wellbeing.
URL:https://animalrebellion.org/event/action-wellbeing-training/
LOCATION:https://us02web.zoom.us/j/81779211320?pwd=VW1zeGxnemFhd3RCR1p6RWZKamhtQT09\, https://us02web.zoom.us/j/81779211320?pwd=VW1zeGxnemFhd3RCR1p6RWZKamhtQT09
CATEGORIES:#AloneTogether
END:VEVENT
END:VCALENDAR