BEGIN:VCALENDAR
VERSION:2.0
PRODID:-//Animal Rebellion - ECPv6.4.0.1//NONSGML v1.0//EN
CALSCALE:GREGORIAN
METHOD:PUBLISH
X-ORIGINAL-URL:https://animalrebellion.org
X-WR-CALDESC:Events for Animal Rebellion
REFRESH-INTERVAL;VALUE=DURATION:PT1H
X-Robots-Tag:noindex
X-PUBLISHED-TTL:PT1H
BEGIN:VTIMEZONE
TZID:Europe/London
BEGIN:DAYLIGHT
TZOFFSETFROM:+0000
TZOFFSETTO:+0100
TZNAME:BST
DTSTART:20200329T010000
END:DAYLIGHT
BEGIN:STANDARD
TZOFFSETFROM:+0100
TZOFFSETTO:+0000
TZNAME:GMT
DTSTART:20201025T010000
END:STANDARD
END:VTIMEZONE
BEGIN:VEVENT
DTSTART;TZID=Europe/London:20200821T140000
DTEND;TZID=Europe/London:20200821T160000
DTSTAMP:20260422T195608
CREATED:20200818T162150Z
LAST-MODIFIED:20200818T162150Z
UID:1539-1598018400-1598025600@animalrebellion.org
SUMMARY:Know Your Rights
DESCRIPTION:Rebel safe! This training is recommended for all rebels planning to take direct action\, and aims to create a safer protest environment by empowering all UK rebels with the knowledge to understand the widespread discrimination within policing\, their legal rights and to be aware of how to limit risk to themselves and others.
URL:https://animalrebellion.org/event/know-your-rights-2/
LOCATION:https://us02web.zoom.us/meeting/register/tZIkduGpqzooEtFPQt3cUDQbzciU7LR5y6lG\, https://us02web.zoom.us/meeting/register/tZIkduGpqzooEtFPQt3cUDQbzciU7LR5y6lG
CATEGORIES:#AloneTogether
END:VEVENT
BEGIN:VEVENT
DTSTART;TZID=Europe/London:20200821T193000
DTEND;TZID=Europe/London:20200821T210000
DTSTAMP:20260422T195608
CREATED:20200814T195257Z
LAST-MODIFIED:20200814T195257Z
UID:1530-1598038200-1598043600@animalrebellion.org
SUMMARY:NVDA Training: Part II
DESCRIPTION:Non-violent direct action (NVDA) is the primary means by which we enact change – it’s what Animal Rebellion is all about. This training gives you everything you need to take to action\, and is essential for all rebels who wish to take to the streets to make our voices heard. \nThe second part of this training is about the action: the dos and don’ts\, the whats and hows\, and everything else you will practically need when preparing to take part in direct action.
URL:https://animalrebellion.org/event/nvda-training-part-ii-3/
LOCATION:https://us02web.zoom.us/meeting/register/tZwkduCrpj4pHdUG1lC9NNWmQ-_k1BNsEOs4\, https://us02web.zoom.us/meeting/register/tZwkduCrpj4pHdUG1lC9NNWmQ-_k1BNsEOs4
CATEGORIES:#AloneTogether
END:VEVENT
END:VCALENDAR